BEGIN:VCALENDAR
VERSION:2.0
PRODID:-//Ambasadorji nasmeha - ECPv6.9.1//NONSGML v1.0//EN
CALSCALE:GREGORIAN
METHOD:PUBLISH
X-WR-CALNAME:Ambasadorji nasmeha
X-ORIGINAL-URL:https://ambasadorji-nasmeha.si
X-WR-CALDESC:Events for Ambasadorji nasmeha
REFRESH-INTERVAL;VALUE=DURATION:PT1H
X-Robots-Tag:noindex
X-PUBLISHED-TTL:PT1H
BEGIN:VTIMEZONE
TZID:Europe/Helsinki
BEGIN:DAYLIGHT
TZOFFSETFROM:+0200
TZOFFSETTO:+0300
TZNAME:EEST
DTSTART:20240331T010000
END:DAYLIGHT
BEGIN:STANDARD
TZOFFSETFROM:+0300
TZOFFSETTO:+0200
TZNAME:EET
DTSTART:20241027T010000
END:STANDARD
END:VTIMEZONE
BEGIN:VEVENT
DTSTART;TZID=Europe/Helsinki:20240601T100000
DTEND;TZID=Europe/Helsinki:20240601T120000
DTSTAMP:20260420T041138
CREATED:20240305T160145Z
LAST-MODIFIED:20240420T183101Z
UID:1846-1717236000-1717243200@ambasadorji-nasmeha.si
SUMMARY:Igraj se z mano OPN
DESCRIPTION:Ana in Ewa\, Vesna in Patty; Borut\, Urška
URL:https://ambasadorji-nasmeha.si/dogodek/igraj-se-z-mano-opn-2/
LOCATION:Kongresni trg
END:VEVENT
BEGIN:VEVENT
DTSTART;TZID=Europe/Helsinki:20240530T190000
DTEND;TZID=Europe/Helsinki:20240530T210000
DTSTAMP:20260420T041138
CREATED:20230903T133928Z
LAST-MODIFIED:20230903T133928Z
UID:1729-1717095600-1717102800@ambasadorji-nasmeha.si
SUMMARY:Redni društveni sestanek
DESCRIPTION:
URL:https://ambasadorji-nasmeha.si/dogodek/redni-drustveni-sestanek-60/
LOCATION:Lepodvorska 3
END:VEVENT
BEGIN:VEVENT
DTSTART;TZID=Europe/Helsinki:20240530T100000
DTEND;TZID=Europe/Helsinki:20240530T110000
DTSTAMP:20260420T041138
CREATED:20240527T093337Z
LAST-MODIFIED:20240527T093337Z
UID:2004-1717063200-1717066800@ambasadorji-nasmeha.si
SUMMARY:DSO Preddvor - OPN
DESCRIPTION:Stefan in Diva; Irena\, Borut\, Urška\, Sonja
URL:https://ambasadorji-nasmeha.si/dogodek/dso-preddvor-opn-4/
END:VEVENT
BEGIN:VEVENT
DTSTART;TZID=Europe/Helsinki:20240529T143000
DTEND;TZID=Europe/Helsinki:20240529T163000
DTSTAMP:20260420T041138
CREATED:20240123T143208Z
LAST-MODIFIED:20240420T173840Z
UID:1823-1716993000-1717000200@ambasadorji-nasmeha.si
SUMMARY:Pedagoška fakulteta OPN
DESCRIPTION:Predstavitev in OPN – Ana in Ewa\, Vesna in Patty\, Neja in Annie; Urška\, Borut\, Sonja
URL:https://ambasadorji-nasmeha.si/dogodek/pedagoska-fakulteta-opn/
LOCATION:Pedagoška fakulteta
END:VEVENT
BEGIN:VEVENT
DTSTART;TZID=Europe/Helsinki:20240529T080000
DTEND;TZID=Europe/Helsinki:20240529T110000
DTSTAMP:20260420T041138
CREATED:20240519T122527Z
LAST-MODIFIED:20240519T134421Z
UID:1986-1716969600-1716980400@ambasadorji-nasmeha.si
SUMMARY:Dan preventive OŠ Majde Vrhovnik OPN
DESCRIPTION:Tjaša in Misty OPN\nsonja in Poldi\, Borut
URL:https://ambasadorji-nasmeha.si/dogodek/dan-preventive-os-majde-vrhovnik-opn/
LOCATION:OŠ Majde Vrhovnik
END:VEVENT
BEGIN:VEVENT
DTSTART;TZID=Europe/Helsinki:20240527T133000
DTEND;TZID=Europe/Helsinki:20240527T150000
DTSTAMP:20260420T041138
CREATED:20240414T080226Z
LAST-MODIFIED:20240506T120738Z
UID:1900-1716816600-1716822000@ambasadorji-nasmeha.si
SUMMARY:OPN OŠ Šmartno pod Š.g.
DESCRIPTION:Vesna in Patty; Urška\, Borut
URL:https://ambasadorji-nasmeha.si/dogodek/opn-os-smartno-pod-s-g/
END:VEVENT
BEGIN:VEVENT
DTSTART;TZID=Europe/Helsinki:20240523T130000
DTEND;TZID=Europe/Helsinki:20240523T170000
DTSTAMP:20260420T041138
CREATED:20240420T182951Z
LAST-MODIFIED:20240420T182951Z
UID:1930-1716469200-1716483600@ambasadorji-nasmeha.si
SUMMARY:Veseli dan prostovoljstva
DESCRIPTION:Vesna in Patty\, Štefka in Sky\, Maja in Frigga; Borut\, Sonja\, Irma\, Urška
URL:https://ambasadorji-nasmeha.si/dogodek/veseli-dan-prostovoljstva-3/
END:VEVENT
BEGIN:VEVENT
DTSTART;TZID=Europe/Helsinki:20240523T100000
DTEND;TZID=Europe/Helsinki:20240523T110000
DTSTAMP:20260420T041138
CREATED:20240515T115316Z
LAST-MODIFIED:20240520T091728Z
UID:1984-1716458400-1716462000@ambasadorji-nasmeha.si
SUMMARY:DSO Taber - OPN
DESCRIPTION:Dementni oddelek – Tesa in Bailey; Irena\, Urška\, Borut
URL:https://ambasadorji-nasmeha.si/dogodek/dso-taber-opn-2/
END:VEVENT
BEGIN:VEVENT
DTSTART;TZID=Europe/Helsinki:20240521T133000
DTEND;TZID=Europe/Helsinki:20240521T170000
DTSTAMP:20260420T041138
CREATED:20240519T134537Z
LAST-MODIFIED:20240519T134604Z
UID:1993-1716298200-1716310800@ambasadorji-nasmeha.si
SUMMARY:RLP Urška in Happy
DESCRIPTION:OŠ Majde Vrhovnik; Borut\, Sonja
URL:https://ambasadorji-nasmeha.si/dogodek/rlp-urska-in-happy/
LOCATION:OŠ Majde Vrhovnik
END:VEVENT
BEGIN:VEVENT
DTSTART;TZID=Europe/Helsinki:20240521T093000
DTEND;TZID=Europe/Helsinki:20240521T103000
DTSTAMP:20260420T041138
CREATED:20240507T142818Z
LAST-MODIFIED:20240507T142818Z
UID:1971-1716283800-1716287400@ambasadorji-nasmeha.si
SUMMARY:DEOS Notranje Gorice OPN
DESCRIPTION:Stefan in Diva; Sonja\, Borut\, Urška
URL:https://ambasadorji-nasmeha.si/dogodek/deos-notranje-gorice-opn-3/
END:VEVENT
BEGIN:VEVENT
DTSTART;TZID=Europe/Helsinki:20240520T100000
DTEND;TZID=Europe/Helsinki:20240520T110000
DTSTAMP:20260420T041138
CREATED:20240425T184252Z
LAST-MODIFIED:20240425T184252Z
UID:1942-1716199200-1716202800@ambasadorji-nasmeha.si
SUMMARY:OPN DSO Preddvor
DESCRIPTION:Irma\, Irena
URL:https://ambasadorji-nasmeha.si/dogodek/opn-dso-preddvor-4/
END:VEVENT
BEGIN:VEVENT
DTSTART;TZID=Europe/Helsinki:20240520T083000
DTEND;TZID=Europe/Helsinki:20240520T100000
DTSTAMP:20260420T041138
CREATED:20240421T164544Z
LAST-MODIFIED:20240421T164544Z
UID:1934-1716193800-1716199200@ambasadorji-nasmeha.si
SUMMARY:Cirius Kamnik OPN
DESCRIPTION:Stefan in Diva; Urška\, Borut
URL:https://ambasadorji-nasmeha.si/dogodek/cirius-kamnik-opn/
LOCATION:CIRIUS KAMNIK
END:VEVENT
BEGIN:VEVENT
DTSTART;TZID=Europe/Helsinki:20240517T093000
DTEND;TZID=Europe/Helsinki:20240517T113000
DTSTAMP:20260420T041138
CREATED:20240512T115449Z
LAST-MODIFIED:20240512T115449Z
UID:1974-1715938200-1715945400@ambasadorji-nasmeha.si
SUMMARY:OŠ Sostro OPN
DESCRIPTION:Vesna in Patty; Borut\, Urška
URL:https://ambasadorji-nasmeha.si/dogodek/os-sostro-opn/
END:VEVENT
BEGIN:VEVENT
DTSTART;TZID=Europe/Helsinki:20240516T190000
DTEND;TZID=Europe/Helsinki:20240516T210000
DTSTAMP:20260420T041138
CREATED:20230903T133908Z
LAST-MODIFIED:20230903T133908Z
UID:1727-1715886000-1715893200@ambasadorji-nasmeha.si
SUMMARY:Redni društveni sestanek
DESCRIPTION:
URL:https://ambasadorji-nasmeha.si/dogodek/redni-drustveni-sestanek-59/
LOCATION:Lepodvorska 3
END:VEVENT
BEGIN:VEVENT
DTSTART;TZID=Europe/Helsinki:20240516T090000
DTEND;TZID=Europe/Helsinki:20240516T170000
DTSTAMP:20260420T041138
CREATED:20240502T131513Z
LAST-MODIFIED:20240507T142537Z
UID:1953-1715850000-1715878800@ambasadorji-nasmeha.si
SUMMARY:RLP Lidija in Spirit
DESCRIPTION:Šola; Borut in Urška
URL:https://ambasadorji-nasmeha.si/dogodek/rlp-lidija-in-spirit/
END:VEVENT
BEGIN:VEVENT
DTSTART;TZID=Europe/Helsinki:20240514T133000
DTEND;TZID=Europe/Helsinki:20240514T143000
DTSTAMP:20260420T041138
CREATED:20240507T142704Z
LAST-MODIFIED:20240507T142704Z
UID:1969-1715693400-1715697000@ambasadorji-nasmeha.si
SUMMARY:OŠ Majde Vrhovnik OPN
DESCRIPTION:Tesa in Bailey; Borut\, Urška\, Sonja
URL:https://ambasadorji-nasmeha.si/dogodek/os-majde-vrhovnik-opn-2/
LOCATION:OŠ Majde Vrhovnik
END:VEVENT
BEGIN:VEVENT
DTSTART;TZID=Europe/Helsinki:20240514T103000
DTEND;TZID=Europe/Helsinki:20240514T113000
DTSTAMP:20260420T041138
CREATED:20240506T121200Z
LAST-MODIFIED:20240506T121200Z
UID:1960-1715682600-1715686200@ambasadorji-nasmeha.si
SUMMARY:OŠ Šentvid OPN
DESCRIPTION:Neja in Anni; Urška
URL:https://ambasadorji-nasmeha.si/dogodek/os-sentvid-opn/
END:VEVENT
BEGIN:VEVENT
DTSTART;TZID=Europe/Helsinki:20240514T083000
DTEND;TZID=Europe/Helsinki:20240514T123000
DTSTAMP:20260420T041138
CREATED:20240404T093517Z
LAST-MODIFIED:20240404T093517Z
UID:1876-1715675400-1715689800@ambasadorji-nasmeha.si
SUMMARY:Dan nasmejanih tačk OPN
DESCRIPTION:Ana in Rolly
URL:https://ambasadorji-nasmeha.si/dogodek/dan-nasmejanih-tack-opn/
LOCATION:Vipava
END:VEVENT
BEGIN:VEVENT
DTSTART;TZID=Europe/Helsinki:20240513T080000
DTEND;TZID=Europe/Helsinki:20240513T170000
DTSTAMP:20260420T041138
CREATED:20240515T114718Z
LAST-MODIFIED:20240515T114718Z
UID:1980-1715587200-1715619600@ambasadorji-nasmeha.si
SUMMARY:Tili v vrtcu Prebold
DESCRIPTION:
URL:https://ambasadorji-nasmeha.si/dogodek/tili-v-vrtcu-prebold/
END:VEVENT
BEGIN:VEVENT
DTSTART;TZID=Europe/Helsinki:20240512T100000
DTEND;TZID=Europe/Helsinki:20240512T110000
DTSTAMP:20260420T041138
CREATED:20240506T121026Z
LAST-MODIFIED:20240512T115304Z
UID:1958-1715508000-1715511600@ambasadorji-nasmeha.si
SUMMARY:Mala ulica Dan družin OPN
DESCRIPTION:Vesna in Patty; Borut\, Urška
URL:https://ambasadorji-nasmeha.si/dogodek/mala-ulica-dan-druzin-opn-2/
END:VEVENT
BEGIN:VEVENT
DTSTART;TZID=Europe/Helsinki:20240512T093000
DTEND;TZID=Europe/Helsinki:20240512T103000
DTSTAMP:20260420T041138
CREATED:20240512T121135Z
LAST-MODIFIED:20240512T121135Z
UID:1976-1715506200-1715509800@ambasadorji-nasmeha.si
SUMMARY:DSO Taber Cerklje OPN
DESCRIPTION:Tesa in Bailey; Irena\, Borut\, Urška
URL:https://ambasadorji-nasmeha.si/dogodek/dso-taber-cerklje-opn/
END:VEVENT
BEGIN:VEVENT
DTSTART;TZID=Europe/Helsinki:20240511T100000
DTEND;TZID=Europe/Helsinki:20240511T110000
DTSTAMP:20260420T041138
CREATED:20240506T120951Z
LAST-MODIFIED:20240506T120951Z
UID:1956-1715421600-1715425200@ambasadorji-nasmeha.si
SUMMARY:Mala ulica Dan družin OPN
DESCRIPTION:Iva in Frida; Urška\, Borut
URL:https://ambasadorji-nasmeha.si/dogodek/mala-ulica-dan-druzin-opn/
END:VEVENT
BEGIN:VEVENT
DTSTART;TZID=Europe/Helsinki:20240509T160000
DTEND;TZID=Europe/Helsinki:20240509T190000
DTSTAMP:20260420T041138
CREATED:20240311T180312Z
LAST-MODIFIED:20240507T142604Z
UID:1852-1715270400-1715281200@ambasadorji-nasmeha.si
SUMMARY:Barjanski Živ-žav OPN
DESCRIPTION:Vesna in Patty\, Neja in Anni; Sonja\, Borut\, Urška
URL:https://ambasadorji-nasmeha.si/dogodek/barjanski-ziv-zav-opn/
LOCATION:ŠD Jama Notranje Gorice
END:VEVENT
BEGIN:VEVENT
DTSTART;TZID=Europe/Helsinki:20240509T100000
DTEND;TZID=Europe/Helsinki:20240509T110000
DTSTAMP:20260420T041138
CREATED:20240507T142512Z
LAST-MODIFIED:20240507T142512Z
UID:1965-1715248800-1715252400@ambasadorji-nasmeha.si
SUMMARY:DSO TABER OPN
DESCRIPTION:Tesa in Bailey; Irena\, Borut\, Urška
URL:https://ambasadorji-nasmeha.si/dogodek/dso-taber-opn/
END:VEVENT
BEGIN:VEVENT
DTSTART;TZID=Europe/Helsinki:20240508T120000
DTEND;TZID=Europe/Helsinki:20240508T130000
DTSTAMP:20260420T041138
CREATED:20240322T114309Z
LAST-MODIFIED:20240502T130253Z
UID:1862-1715169600-1715173200@ambasadorji-nasmeha.si
SUMMARY:RLP Metka in Buba
DESCRIPTION:Borut\, Urška
URL:https://ambasadorji-nasmeha.si/dogodek/rlp-metka-in-buba/
END:VEVENT
BEGIN:VEVENT
DTSTART;TZID=Europe/Helsinki:20240508T100000
DTEND;TZID=Europe/Helsinki:20240508T110000
DTSTAMP:20260420T041138
CREATED:20240502T130032Z
LAST-MODIFIED:20240502T130032Z
UID:1949-1715162400-1715166000@ambasadorji-nasmeha.si
SUMMARY:RLP Lidija in Suri
DESCRIPTION:DEOS Idila; Borut\, Urška
URL:https://ambasadorji-nasmeha.si/dogodek/rlp-lidija-in-suri/
END:VEVENT
BEGIN:VEVENT
DTSTART;TZID=Europe/Helsinki:20240507T133000
DTEND;TZID=Europe/Helsinki:20240507T150000
DTSTAMP:20260420T041138
CREATED:20240421T164622Z
LAST-MODIFIED:20240421T164622Z
UID:1936-1715088600-1715094000@ambasadorji-nasmeha.si
SUMMARY:OŠ Majde Vrhovnik OPN
DESCRIPTION:Stefan in Diva; Urška\, Borut
URL:https://ambasadorji-nasmeha.si/dogodek/os-majde-vrhovnik-opn/
LOCATION:OŠ Majde Vrhovnik
END:VEVENT
BEGIN:VEVENT
DTSTART;TZID=Europe/Helsinki:20240507T073000
DTEND;TZID=Europe/Helsinki:20240507T090000
DTSTAMP:20260420T041138
CREATED:20240425T184332Z
LAST-MODIFIED:20240425T184332Z
UID:1944-1715067000-1715072400@ambasadorji-nasmeha.si
SUMMARY:OPN OŠ Helene Puhar KR
DESCRIPTION:Neja in Annie; Irena\, Borut\, Urška
URL:https://ambasadorji-nasmeha.si/dogodek/opn-os-helene-puhar-kr/
END:VEVENT
BEGIN:VEVENT
DTSTART;TZID=Europe/Helsinki:20240506T083000
DTEND;TZID=Europe/Helsinki:20240506T100000
DTSTAMP:20260420T041138
CREATED:20240414T080143Z
LAST-MODIFIED:20240420T173459Z
UID:1898-1714984200-1714989600@ambasadorji-nasmeha.si
SUMMARY:OPN CIRIUS Kamnik
DESCRIPTION:Ana in Ewa; Urška\, Borut\, Irena
URL:https://ambasadorji-nasmeha.si/dogodek/opn-cirius-kamnik-11/
LOCATION:CIRIUS KAMNIK
END:VEVENT
BEGIN:VEVENT
DTSTART;TZID=Europe/Helsinki:20240502T190000
DTEND;TZID=Europe/Helsinki:20240502T210000
DTSTAMP:20260420T041138
CREATED:20230903T133843Z
LAST-MODIFIED:20230903T133843Z
UID:1725-1714676400-1714683600@ambasadorji-nasmeha.si
SUMMARY:Redni društveni sestanek
DESCRIPTION:
URL:https://ambasadorji-nasmeha.si/dogodek/redni-drustveni-sestanek-58/
LOCATION:Lepodvorska 3
END:VEVENT
END:VCALENDAR