BEGIN:VCALENDAR
VERSION:2.0
PRODID:-//Ambasadorji nasmeha - ECPv6.9.1//NONSGML v1.0//EN
CALSCALE:GREGORIAN
METHOD:PUBLISH
X-ORIGINAL-URL:https://ambasadorji-nasmeha.si
X-WR-CALDESC:Events for Ambasadorji nasmeha
REFRESH-INTERVAL;VALUE=DURATION:PT1H
X-Robots-Tag:noindex
X-PUBLISHED-TTL:PT1H
BEGIN:VTIMEZONE
TZID:Europe/Helsinki
BEGIN:DAYLIGHT
TZOFFSETFROM:+0200
TZOFFSETTO:+0300
TZNAME:EEST
DTSTART:20240331T010000
END:DAYLIGHT
BEGIN:STANDARD
TZOFFSETFROM:+0300
TZOFFSETTO:+0200
TZNAME:EET
DTSTART:20241027T010000
END:STANDARD
END:VTIMEZONE
BEGIN:VEVENT
DTSTART;TZID=Europe/Helsinki:20240429T100000
DTEND;TZID=Europe/Helsinki:20240429T113000
DTSTAMP:20260420T065935
CREATED:20240423T134053Z
LAST-MODIFIED:20240425T184539Z
UID:1938-1714384800-1714390200@ambasadorji-nasmeha.si
SUMMARY:OPN vrtec Iv. Gorica
DESCRIPTION:Tjaša in Misty; Borut\, Urška\, Irena
URL:https://ambasadorji-nasmeha.si/dogodek/opn-vrtec-iv-gorica/
END:VEVENT
BEGIN:VEVENT
DTSTART;TZID=Europe/Helsinki:20240427T080000
DTEND;TZID=Europe/Helsinki:20240427T170000
DTSTAMP:20260420T065935
CREATED:20240404T093933Z
LAST-MODIFIED:20240425T184506Z
UID:1879-1714204800-1714237200@ambasadorji-nasmeha.si
SUMMARY:POMLADOVANJE (OPN)
DESCRIPTION:Žirovski taborniki \nVesna in Patty\, Štefka in Sky\, Iva in Frida; Urška\, Borut\, Irena
URL:https://ambasadorji-nasmeha.si/dogodek/pomladovanje-opn/
END:VEVENT
BEGIN:VEVENT
DTSTART;TZID=Europe/Helsinki:20240426T120000
DTEND;TZID=Europe/Helsinki:20240426T133000
DTSTAMP:20260420T065935
CREATED:20240413T064520Z
LAST-MODIFIED:20240413T064520Z
UID:1894-1714132800-1714138200@ambasadorji-nasmeha.si
SUMMARY:HOSPIC OBISK
DESCRIPTION:Mila na obisku delavcev Hospica
URL:https://ambasadorji-nasmeha.si/dogodek/hospic-obisk/
END:VEVENT
BEGIN:VEVENT
DTSTART;TZID=Europe/Helsinki:20240426T080000
DTEND;TZID=Europe/Helsinki:20240426T093000
DTSTAMP:20260420T065935
CREATED:20240423T134135Z
LAST-MODIFIED:20240423T134135Z
UID:1940-1714118400-1714123800@ambasadorji-nasmeha.si
SUMMARY:RLP Cirius Kamnik
DESCRIPTION:Jasna in Cini; Irma\, Irena
URL:https://ambasadorji-nasmeha.si/dogodek/rlp-cirius-kamnik/
LOCATION:CIRIUS KAMNIK
END:VEVENT
BEGIN:VEVENT
DTSTART;TZID=Europe/Helsinki:20240425T150000
DTEND;TZID=Europe/Helsinki:20240425T170000
DTSTAMP:20260420T065935
CREATED:20240315T184342Z
LAST-MODIFIED:20240315T184342Z
UID:1854-1714057200-1714064400@ambasadorji-nasmeha.si
SUMMARY:Dan zdrave šole - OPN
DESCRIPTION:
URL:https://ambasadorji-nasmeha.si/dogodek/dan-zdrave-sole-opn/
LOCATION:OŠ Preserje
END:VEVENT
BEGIN:VEVENT
DTSTART;TZID=Europe/Helsinki:20240423T133000
DTEND;TZID=Europe/Helsinki:20240423T150000
DTSTAMP:20260420T065935
CREATED:20240414T080035Z
LAST-MODIFIED:20240414T080035Z
UID:1896-1713879000-1713884400@ambasadorji-nasmeha.si
SUMMARY:OPN OŠ Majde Vrhovnik
DESCRIPTION:Ana in Ewa; Irma\, Urška\, Borut
URL:https://ambasadorji-nasmeha.si/dogodek/opn-os-majde-vrhovnik-3/
LOCATION:OŠ Majde Vrhovnik
END:VEVENT
BEGIN:VEVENT
DTSTART;TZID=Europe/Helsinki:20240422T153000
DTEND;TZID=Europe/Helsinki:20240422T180000
DTSTAMP:20260420T065935
CREATED:20240411T142811Z
LAST-MODIFIED:20240414T132311Z
UID:1888-1713799800-1713808800@ambasadorji-nasmeha.si
SUMMARY:SONČEK Maribor OPN
DESCRIPTION:Štefka in Sky; Borut\, Urška\, Než
URL:https://ambasadorji-nasmeha.si/dogodek/soncek-maribor-opn/
END:VEVENT
BEGIN:VEVENT
DTSTART;TZID=Europe/Helsinki:20240422T100000
DTEND;TZID=Europe/Helsinki:20240422T113000
DTSTAMP:20260420T065935
CREATED:20240420T173216Z
LAST-MODIFIED:20240420T173216Z
UID:1920-1713780000-1713785400@ambasadorji-nasmeha.si
SUMMARY:DSO Preddvor OPN
DESCRIPTION:Neja in Annie; Irena\, Borut\, Urška
URL:https://ambasadorji-nasmeha.si/dogodek/dso-preddvor-opn-3/
END:VEVENT
BEGIN:VEVENT
DTSTART;TZID=Europe/Helsinki:20240420T080000
DTEND;TZID=Europe/Helsinki:20240420T170000
DTSTAMP:20260420T065935
CREATED:20240420T174020Z
LAST-MODIFIED:20240420T174020Z
UID:1926-1713600000-1713632400@ambasadorji-nasmeha.si
SUMMARY:Veseli dan prostovoljstva
DESCRIPTION:Vesna in Patty\, Štefka in Sky\, Maja in Frigga; Urška\, Borut\, Sonja\, Irma
URL:https://ambasadorji-nasmeha.si/dogodek/veseli-dan-prostovoljstva-2/
END:VEVENT
BEGIN:VEVENT
DTSTART;TZID=Europe/Helsinki:20240419T180000
DTEND;TZID=Europe/Helsinki:20240419T190000
DTSTAMP:20260420T065935
CREATED:20240416T175635Z
LAST-MODIFIED:20240416T175635Z
UID:1913-1713549600-1713553200@ambasadorji-nasmeha.si
SUMMARY:Knjižnica Ihan OPN
DESCRIPTION:Tjaša in Misty; Irena\, Borut\, Urška
URL:https://ambasadorji-nasmeha.si/dogodek/knjiznica-ihan-opn/
END:VEVENT
BEGIN:VEVENT
DTSTART;TZID=Europe/Helsinki:20240418T190000
DTEND;TZID=Europe/Helsinki:20240418T210000
DTSTAMP:20260420T065935
CREATED:20230903T133749Z
LAST-MODIFIED:20230903T133749Z
UID:1721-1713466800-1713474000@ambasadorji-nasmeha.si
SUMMARY:Redni društveni sestanek
DESCRIPTION:
URL:https://ambasadorji-nasmeha.si/dogodek/redni-drustveni-sestanek-56/
LOCATION:Lepodvorska 3
END:VEVENT
BEGIN:VEVENT
DTSTART;TZID=Europe/Helsinki:20240418T180000
DTEND;TZID=Europe/Helsinki:20240418T190000
DTSTAMP:20260420T065935
CREATED:20240418T102201Z
LAST-MODIFIED:20240418T102201Z
UID:1918-1713463200-1713466800@ambasadorji-nasmeha.si
SUMMARY:RLP Primož in Ola
DESCRIPTION:Irena\, Borut\, Urška\, Špela
URL:https://ambasadorji-nasmeha.si/dogodek/rlp-primoz-in-ola/
LOCATION:Lepodvorska 3
END:VEVENT
BEGIN:VEVENT
DTSTART;TZID=Europe/Helsinki:20240418T100000
DTEND;TZID=Europe/Helsinki:20240418T110000
DTSTAMP:20260420T065935
CREATED:20240415T153552Z
LAST-MODIFIED:20240415T153552Z
UID:1911-1713434400-1713438000@ambasadorji-nasmeha.si
SUMMARY:Bralnice pod Slamnikom - društvo Sožitje
DESCRIPTION:Irena in Roni
URL:https://ambasadorji-nasmeha.si/dogodek/bralnice-pod-slamnikom-drustvo-sozitje/
END:VEVENT
BEGIN:VEVENT
DTSTART;TZID=Europe/Helsinki:20240416T130000
DTEND;TZID=Europe/Helsinki:20240416T143000
DTSTAMP:20260420T065935
CREATED:20240409T184116Z
LAST-MODIFIED:20240409T184116Z
UID:1886-1713272400-1713277800@ambasadorji-nasmeha.si
SUMMARY:OPN OŠ Majde Vrhovnik
DESCRIPTION:Neja in Annie; Irma\, Urška\, Borut
URL:https://ambasadorji-nasmeha.si/dogodek/opn-os-majde-vrhovnik-2/
LOCATION:OŠ Majde Vrhovnik
END:VEVENT
BEGIN:VEVENT
DTSTART;TZID=Europe/Helsinki:20240416T093000
DTEND;TZID=Europe/Helsinki:20240416T103000
DTSTAMP:20260420T065935
CREATED:20240412T131416Z
LAST-MODIFIED:20240412T131416Z
UID:1892-1713259800-1713263400@ambasadorji-nasmeha.si
SUMMARY:DEOS Notranje Gorice OPN
DESCRIPTION:Štefka in Sky; Irena\, Borut\, Urška
URL:https://ambasadorji-nasmeha.si/dogodek/deos-notranje-gorice-opn-2/
END:VEVENT
BEGIN:VEVENT
DTSTART;TZID=Europe/Helsinki:20240411T180000
DTEND;TZID=Europe/Helsinki:20240411T193000
DTSTAMP:20260420T065935
CREATED:20240229T133926Z
LAST-MODIFIED:20240229T133926Z
UID:1844-1712858400-1712863800@ambasadorji-nasmeha.si
SUMMARY:Večerja v temi
DESCRIPTION:
URL:https://ambasadorji-nasmeha.si/dogodek/vecerja-v-temi-2/
LOCATION:Center IRIS
END:VEVENT
BEGIN:VEVENT
DTSTART;TZID=Europe/Helsinki:20240408T100000
DTEND;TZID=Europe/Helsinki:20240408T113000
DTSTAMP:20260420T065935
CREATED:20240409T184018Z
LAST-MODIFIED:20240409T184018Z
UID:1884-1712570400-1712575800@ambasadorji-nasmeha.si
SUMMARY:OPN DSO Preddvor
DESCRIPTION:Neja in Annie; Urška\, Borut
URL:https://ambasadorji-nasmeha.si/dogodek/opn-dso-preddvor-3/
END:VEVENT
BEGIN:VEVENT
DTSTART;TZID=Europe/Helsinki:20240405T103000
DTEND;TZID=Europe/Helsinki:20240405T123000
DTSTAMP:20260420T065935
CREATED:20240403T120233Z
LAST-MODIFIED:20240404T142356Z
UID:1874-1712313000-1712320200@ambasadorji-nasmeha.si
SUMMARY:OPN Cirius Kamnik
DESCRIPTION:Vesna in Patty; Urška\, Borut
URL:https://ambasadorji-nasmeha.si/dogodek/opn-cirius-kamnik-9/
LOCATION:CIRIUS KAMNIK
END:VEVENT
BEGIN:VEVENT
DTSTART;TZID=Europe/Helsinki:20240404T190000
DTEND;TZID=Europe/Helsinki:20240404T210000
DTSTAMP:20260420T065935
CREATED:20230903T133727Z
LAST-MODIFIED:20230903T133727Z
UID:1719-1712257200-1712264400@ambasadorji-nasmeha.si
SUMMARY:Redni društveni sestanek
DESCRIPTION:
URL:https://ambasadorji-nasmeha.si/dogodek/redni-drustveni-sestanek-55/
LOCATION:Lepodvorska 3
END:VEVENT
BEGIN:VEVENT
DTSTART;TZID=Europe/Helsinki:20240329T093000
DTEND;TZID=Europe/Helsinki:20240329T110000
DTSTAMP:20260420T065935
CREATED:20240324T144004Z
LAST-MODIFIED:20240324T144004Z
UID:1872-1711704600-1711710000@ambasadorji-nasmeha.si
SUMMARY:OPN Vrtec Jelka
DESCRIPTION:Štefka in Sky; Borut\, Irena\, Sonja
URL:https://ambasadorji-nasmeha.si/dogodek/opn-vrtec-jelka-2/
END:VEVENT
BEGIN:VEVENT
DTSTART;TZID=Europe/Helsinki:20240326T133000
DTEND;TZID=Europe/Helsinki:20240326T160000
DTSTAMP:20260420T065935
CREATED:20240315T184915Z
LAST-MODIFIED:20240315T184915Z
UID:1860-1711459800-1711468800@ambasadorji-nasmeha.si
SUMMARY:OPN OŠ Majde Vrhovnik
DESCRIPTION:Vesna in Patty; Borut\, Sonja\, Urška
URL:https://ambasadorji-nasmeha.si/dogodek/opn-os-majde-vrhovnik/
LOCATION:OŠ Majde Vrhovnik
END:VEVENT
BEGIN:VEVENT
DTSTART;TZID=Europe/Helsinki:20240325T120000
DTEND;TZID=Europe/Helsinki:20240325T153000
DTSTAMP:20260420T065935
CREATED:20240324T143915Z
LAST-MODIFIED:20240324T143915Z
UID:1870-1711368000-1711380600@ambasadorji-nasmeha.si
SUMMARY:IKEA SLOVENIJA
DESCRIPTION:Delavnica za zaposlene.\nSonja in Poldi\, Irena in Roni\, Urška in Mila\, Irma\, Borut.
URL:https://ambasadorji-nasmeha.si/dogodek/ikea-slovenija/
END:VEVENT
BEGIN:VEVENT
DTSTART;TZID=Europe/Helsinki:20240323T100000
DTEND;TZID=Europe/Helsinki:20240323T140000
DTSTAMP:20260420T065935
CREATED:20230903T133655Z
LAST-MODIFIED:20240228T122019Z
UID:1717-1711188000-1711202400@ambasadorji-nasmeha.si
SUMMARY:ZBOR ČLANOV
DESCRIPTION:
URL:https://ambasadorji-nasmeha.si/dogodek/redni-drustveni-sestanek-54/
LOCATION:Lepodvorska 3
END:VEVENT
BEGIN:VEVENT
DTSTART;TZID=Europe/Helsinki:20240321T190000
DTEND;TZID=Europe/Helsinki:20240321T210000
DTSTAMP:20260420T065935
CREATED:20240228T122115Z
LAST-MODIFIED:20240228T122115Z
UID:1840-1711047600-1711054800@ambasadorji-nasmeha.si
SUMMARY:Redni društveni sestanek
DESCRIPTION:
URL:https://ambasadorji-nasmeha.si/dogodek/redni-drustveni-sestanek-57/
LOCATION:Lepodvorska 3
END:VEVENT
BEGIN:VEVENT
DTSTART;TZID=Europe/Helsinki:20240307T190000
DTEND;TZID=Europe/Helsinki:20240307T210000
DTSTAMP:20260420T065935
CREATED:20230903T133633Z
LAST-MODIFIED:20230903T133633Z
UID:1715-1709838000-1709845200@ambasadorji-nasmeha.si
SUMMARY:Redni društveni sestanek
DESCRIPTION:
URL:https://ambasadorji-nasmeha.si/dogodek/redni-drustveni-sestanek-53/
LOCATION:Lepodvorska 3
END:VEVENT
BEGIN:VEVENT
DTSTART;TZID=Europe/Helsinki:20240307T163000
DTEND;TZID=Europe/Helsinki:20240307T180000
DTSTAMP:20260420T065935
CREATED:20240229T133904Z
LAST-MODIFIED:20240229T133904Z
UID:1842-1709829000-1709834400@ambasadorji-nasmeha.si
SUMMARY:Večerja v temi
DESCRIPTION:
URL:https://ambasadorji-nasmeha.si/dogodek/vecerja-v-temi/
LOCATION:Center IRIS
END:VEVENT
BEGIN:VEVENT
DTSTART;TZID=Europe/Helsinki:20240222T190000
DTEND;TZID=Europe/Helsinki:20240222T210000
DTSTAMP:20260420T065935
CREATED:20230903T133605Z
LAST-MODIFIED:20230903T133605Z
UID:1713-1708628400-1708635600@ambasadorji-nasmeha.si
SUMMARY:Redni društveni sestanek
DESCRIPTION:
URL:https://ambasadorji-nasmeha.si/dogodek/redni-drustveni-sestanek-52/
LOCATION:Lepodvorska 3
END:VEVENT
BEGIN:VEVENT
DTSTART;TZID=Europe/Helsinki:20240222T180000
DTEND;TZID=Europe/Helsinki:20240222T190000
DTSTAMP:20260420T065935
CREATED:20240210T130251Z
LAST-MODIFIED:20240210T130251Z
UID:1838-1708624800-1708628400@ambasadorji-nasmeha.si
SUMMARY:RLP - Ana in Rolly
DESCRIPTION:
URL:https://ambasadorji-nasmeha.si/dogodek/rlp-ana-in-rolly/
LOCATION:Lepodvorska 3
END:VEVENT
BEGIN:VEVENT
DTSTART;TZID=Europe/Helsinki:20240220T180000
DTEND;TZID=Europe/Helsinki:20240220T193000
DTSTAMP:20260420T065935
CREATED:20240117T132526Z
LAST-MODIFIED:20240117T132526Z
UID:1807-1708452000-1708457400@ambasadorji-nasmeha.si
SUMMARY:RIJEKA PSIHOLOGIJE
DESCRIPTION:Jasmina in Kora\, Andrea in Nera\, Urška
URL:https://ambasadorji-nasmeha.si/dogodek/rijeka-psihologije-2/
LOCATION:RIJEKA
END:VEVENT
BEGIN:VEVENT
DTSTART;TZID=Europe/Helsinki:20240212T103000
DTEND;TZID=Europe/Helsinki:20240212T123000
DTSTAMP:20260420T065935
CREATED:20240209T153600Z
LAST-MODIFIED:20240209T153600Z
UID:1833-1707733800-1707741000@ambasadorji-nasmeha.si
SUMMARY:Obisk PŠ Kisovec
DESCRIPTION:
URL:https://ambasadorji-nasmeha.si/dogodek/obisk-ps-kisovec/
END:VEVENT
END:VCALENDAR