BEGIN:VCALENDAR
VERSION:2.0
PRODID:-//Ambasadorji nasmeha - ECPv6.9.1//NONSGML v1.0//EN
CALSCALE:GREGORIAN
METHOD:PUBLISH
X-WR-CALNAME:Ambasadorji nasmeha
X-ORIGINAL-URL:https://ambasadorji-nasmeha.si
X-WR-CALDESC:Events for Ambasadorji nasmeha
REFRESH-INTERVAL;VALUE=DURATION:PT1H
X-Robots-Tag:noindex
X-PUBLISHED-TTL:PT1H
BEGIN:VTIMEZONE
TZID:Europe/Helsinki
BEGIN:DAYLIGHT
TZOFFSETFROM:+0200
TZOFFSETTO:+0300
TZNAME:EEST
DTSTART:20230326T010000
END:DAYLIGHT
BEGIN:STANDARD
TZOFFSETFROM:+0300
TZOFFSETTO:+0200
TZNAME:EET
DTSTART:20231029T010000
END:STANDARD
BEGIN:DAYLIGHT
TZOFFSETFROM:+0200
TZOFFSETTO:+0300
TZNAME:EEST
DTSTART:20240331T010000
END:DAYLIGHT
BEGIN:STANDARD
TZOFFSETFROM:+0300
TZOFFSETTO:+0200
TZNAME:EET
DTSTART:20241027T010000
END:STANDARD
END:VTIMEZONE
BEGIN:VEVENT
DTSTART;TZID=Europe/Helsinki:20240208T190000
DTEND;TZID=Europe/Helsinki:20240208T210000
DTSTAMP:20260420T080200
CREATED:20230903T133543Z
LAST-MODIFIED:20230903T133543Z
UID:1711-1707418800-1707426000@ambasadorji-nasmeha.si
SUMMARY:Redni društveni sestanek
DESCRIPTION:
URL:https://ambasadorji-nasmeha.si/dogodek/redni-drustveni-sestanek-51/
LOCATION:Lepodvorska 3
END:VEVENT
BEGIN:VEVENT
DTSTART;TZID=Europe/Helsinki:20240207T103000
DTEND;TZID=Europe/Helsinki:20240207T113000
DTSTAMP:20260420T080200
CREATED:20240117T133014Z
LAST-MODIFIED:20240117T133014Z
UID:1819-1707301800-1707305400@ambasadorji-nasmeha.si
SUMMARY:Obisk PŠ Kisovec
DESCRIPTION:Urška in Happy
URL:https://ambasadorji-nasmeha.si/dogodek/obisk-ps-kisovec-3/
END:VEVENT
BEGIN:VEVENT
DTSTART;TZID=Europe/Helsinki:20240206T103000
DTEND;TZID=Europe/Helsinki:20240206T140000
DTSTAMP:20260420T080200
CREATED:20240117T132951Z
LAST-MODIFIED:20240117T132951Z
UID:1817-1707215400-1707228000@ambasadorji-nasmeha.si
SUMMARY:Obisk PŠ Kisovec
DESCRIPTION:Lidija in Spirit
URL:https://ambasadorji-nasmeha.si/dogodek/obisk-ps-kisovec-2/
END:VEVENT
BEGIN:VEVENT
DTSTART;TZID=Europe/Helsinki:20240203T160000
DTEND;TZID=Europe/Helsinki:20240203T170000
DTSTAMP:20260420T080200
CREATED:20240123T153228Z
LAST-MODIFIED:20240123T153228Z
UID:1828-1706976000-1706979600@ambasadorji-nasmeha.si
SUMMARY:Lassie - nova pustolovščina
DESCRIPTION:As in Katja v Linhartovi dvorani Radovljica
URL:https://ambasadorji-nasmeha.si/dogodek/lassie-nova-pustolovscina/
END:VEVENT
BEGIN:VEVENT
DTSTART;TZID=Europe/Helsinki:20240202T103000
DTEND;TZID=Europe/Helsinki:20240202T123000
DTSTAMP:20260420T080200
CREATED:20240117T132825Z
LAST-MODIFIED:20240117T132825Z
UID:1813-1706869800-1706877000@ambasadorji-nasmeha.si
SUMMARY:Obisk PŠ Šentlambert
DESCRIPTION:Urška in Happy
URL:https://ambasadorji-nasmeha.si/dogodek/obisk-ps-sentlambert-2/
END:VEVENT
BEGIN:VEVENT
DTSTART;TZID=Europe/Helsinki:20240131T103000
DTEND;TZID=Europe/Helsinki:20240131T123000
DTSTAMP:20260420T080200
CREATED:20240117T132756Z
LAST-MODIFIED:20240117T132756Z
UID:1811-1706697000-1706704200@ambasadorji-nasmeha.si
SUMMARY:Obisk PŠ Šentlambert
DESCRIPTION:Urška in Happy
URL:https://ambasadorji-nasmeha.si/dogodek/obisk-ps-sentlambert/
END:VEVENT
BEGIN:VEVENT
DTSTART;TZID=Europe/Helsinki:20240125T190000
DTEND;TZID=Europe/Helsinki:20240125T210000
DTSTAMP:20260420T080200
CREATED:20230903T133515Z
LAST-MODIFIED:20230903T133515Z
UID:1709-1706209200-1706216400@ambasadorji-nasmeha.si
SUMMARY:Redni društveni sestanek
DESCRIPTION:
URL:https://ambasadorji-nasmeha.si/dogodek/redni-drustveni-sestanek-50/
LOCATION:Lepodvorska 3
END:VEVENT
BEGIN:VEVENT
DTSTART;TZID=Europe/Helsinki:20240125T180000
DTEND;TZID=Europe/Helsinki:20240125T190000
DTSTAMP:20260420T080200
CREATED:20240117T132658Z
LAST-MODIFIED:20240117T132658Z
UID:1809-1706205600-1706209200@ambasadorji-nasmeha.si
SUMMARY:RLP Ana in Frida
DESCRIPTION:Sonja\, Borut\, Než\, Urška
URL:https://ambasadorji-nasmeha.si/dogodek/rlp-ana-in-frida/
LOCATION:Lepodvorska 3
END:VEVENT
BEGIN:VEVENT
DTSTART;TZID=Europe/Helsinki:20240112T170000
DTEND;TZID=Europe/Helsinki:20240112T180000
DTSTAMP:20260420T080200
CREATED:20240103T162645Z
LAST-MODIFIED:20240103T162645Z
UID:1805-1705078800-1705082400@ambasadorji-nasmeha.si
SUMMARY:RLP Ksenija in Tili
DESCRIPTION:Zobozdravstvena ordinacija Slovenska Bistrica
URL:https://ambasadorji-nasmeha.si/dogodek/rlp-ksenija-in-tili/
END:VEVENT
BEGIN:VEVENT
DTSTART;TZID=Europe/Helsinki:20240111T190000
DTEND;TZID=Europe/Helsinki:20240111T210000
DTSTAMP:20260420T080200
CREATED:20230903T133453Z
LAST-MODIFIED:20230903T133453Z
UID:1707-1704999600-1705006800@ambasadorji-nasmeha.si
SUMMARY:Redni društveni sestanek
DESCRIPTION:
URL:https://ambasadorji-nasmeha.si/dogodek/redni-drustveni-sestanek-49/
LOCATION:Lepodvorska 3
END:VEVENT
BEGIN:VEVENT
DTSTART;TZID=Europe/Helsinki:20231222T190000
DTEND;TZID=Europe/Helsinki:20231222T223000
DTSTAMP:20260420T080200
CREATED:20231119T195247Z
LAST-MODIFIED:20231217T090430Z
UID:1780-1703271600-1703284200@ambasadorji-nasmeha.si
SUMMARY:DRUŽENJE NA LADJICI - 18. let društva
DESCRIPTION:In Božičkovanje
URL:https://ambasadorji-nasmeha.si/dogodek/druzenje-na-ladjici-18-let-drustva/
END:VEVENT
BEGIN:VEVENT
DTSTART;TZID=Europe/Helsinki:20231214T190000
DTEND;TZID=Europe/Helsinki:20231214T210000
DTSTAMP:20260420T080200
CREATED:20230903T133402Z
LAST-MODIFIED:20230903T133402Z
UID:1705-1702580400-1702587600@ambasadorji-nasmeha.si
SUMMARY:Redni društveni sestanek
DESCRIPTION:
URL:https://ambasadorji-nasmeha.si/dogodek/redni-drustveni-sestanek-48/
LOCATION:Lepodvorska 3
END:VEVENT
BEGIN:VEVENT
DTSTART;TZID=Europe/Helsinki:20231209T080000
DTEND;TZID=Europe/Helsinki:20231209T170000
DTSTAMP:20260420T080200
CREATED:20230315T102652Z
LAST-MODIFIED:20230315T102652Z
UID:1571-1702108800-1702141200@ambasadorji-nasmeha.si
SUMMARY:IZPITI
DESCRIPTION:Delni praktični in teoretični
URL:https://ambasadorji-nasmeha.si/dogodek/izpiti/
END:VEVENT
BEGIN:VEVENT
DTSTART;TZID=Europe/Helsinki:20231202T090000
DTEND;TZID=Europe/Helsinki:20231202T133000
DTSTAMP:20260420T080200
CREATED:20230315T102556Z
LAST-MODIFIED:20230829T111537Z
UID:1569-1701507600-1701523800@ambasadorji-nasmeha.si
SUMMARY:Tečaj\, 4. dan
DESCRIPTION:Prva skupina od 9-11; druga skupina od 11:30-13:30
URL:https://ambasadorji-nasmeha.si/dogodek/tecaj-4-dan-2/
END:VEVENT
BEGIN:VEVENT
DTSTART;TZID=Europe/Helsinki:20231130T190000
DTEND;TZID=Europe/Helsinki:20231130T210000
DTSTAMP:20260420T080200
CREATED:20230903T133329Z
LAST-MODIFIED:20231119T195322Z
UID:1703-1701370800-1701378000@ambasadorji-nasmeha.si
SUMMARY:Redni društveni sestanek 18 let društva
DESCRIPTION:
URL:https://ambasadorji-nasmeha.si/dogodek/redni-drustveni-sestanek-47/
LOCATION:Lepodvorska 3
END:VEVENT
BEGIN:VEVENT
DTSTART;TZID=Europe/Helsinki:20231125T090000
DTEND;TZID=Europe/Helsinki:20231125T133000
DTSTAMP:20260420T080200
CREATED:20230315T102530Z
LAST-MODIFIED:20230829T111546Z
UID:1567-1700902800-1700919000@ambasadorji-nasmeha.si
SUMMARY:Tečaj\, 3. dan
DESCRIPTION:Prva skupina od 9-11; druga skupina od 11:30-13:30
URL:https://ambasadorji-nasmeha.si/dogodek/tecaj-3-dan-2/
END:VEVENT
BEGIN:VEVENT
DTSTART;TZID=Europe/Helsinki:20231122T090000
DTEND;TZID=Europe/Helsinki:20231122T170000
DTSTAMP:20260420T080200
CREATED:20230903T134129Z
LAST-MODIFIED:20231017T150945Z
UID:1735-1700643600-1700672400@ambasadorji-nasmeha.si
SUMMARY:Obisk vrtca Radenci
DESCRIPTION:Tradicionalni obisk \nLidija in Suri\, Sonja in Poldi\, Urška in Mila\, Borut
URL:https://ambasadorji-nasmeha.si/dogodek/obisk-vrtca-radenci/
LOCATION:Radenci
END:VEVENT
BEGIN:VEVENT
DTSTART;TZID=Europe/Helsinki:20231119T090000
DTEND;TZID=Europe/Helsinki:20231119T170000
DTSTAMP:20260420T080200
CREATED:20230315T102830Z
LAST-MODIFIED:20230829T111601Z
UID:1577-1700384400-1700413200@ambasadorji-nasmeha.si
SUMMARY:Seminar in delavnice\, 3. dan
DESCRIPTION:
URL:https://ambasadorji-nasmeha.si/dogodek/seminar-in-delavnice-3-dan/
END:VEVENT
BEGIN:VEVENT
DTSTART;TZID=Europe/Helsinki:20231118T090000
DTEND;TZID=Europe/Helsinki:20231118T170000
DTSTAMP:20260420T080200
CREATED:20230315T102805Z
LAST-MODIFIED:20230829T111614Z
UID:1575-1700298000-1700326800@ambasadorji-nasmeha.si
SUMMARY:Seminar in delavnice\, 2. dan
DESCRIPTION:
URL:https://ambasadorji-nasmeha.si/dogodek/seminar-in-delavnice-2-dan/
END:VEVENT
BEGIN:VEVENT
DTSTART;TZID=Europe/Helsinki:20231117T170000
DTEND;TZID=Europe/Helsinki:20231117T200000
DTSTAMP:20260420T080200
CREATED:20230315T102738Z
LAST-MODIFIED:20230315T102738Z
UID:1573-1700240400-1700251200@ambasadorji-nasmeha.si
SUMMARY:Seminar in delavnice\, 1. dan
DESCRIPTION:
URL:https://ambasadorji-nasmeha.si/dogodek/seminar-in-delavnice-1-dan/
END:VEVENT
BEGIN:VEVENT
DTSTART;TZID=Europe/Helsinki:20231116T190000
DTEND;TZID=Europe/Helsinki:20231116T210000
DTSTAMP:20260420T080200
CREATED:20230903T133308Z
LAST-MODIFIED:20230903T133308Z
UID:1701-1700161200-1700168400@ambasadorji-nasmeha.si
SUMMARY:Redni društveni sestanek
DESCRIPTION:
URL:https://ambasadorji-nasmeha.si/dogodek/redni-drustveni-sestanek-46/
LOCATION:Lepodvorska 3
END:VEVENT
BEGIN:VEVENT
DTSTART;TZID=Europe/Helsinki:20231115T090000
DTEND;TZID=Europe/Helsinki:20231115T140000
DTSTAMP:20260420T080200
CREATED:20230907T141245Z
LAST-MODIFIED:20231019T090916Z
UID:1738-1700038800-1700056800@ambasadorji-nasmeha.si
SUMMARY:OBISK OŠ KAMNICA
DESCRIPTION:Sonja in Poldi\, Urška in Mila\, Borut
URL:https://ambasadorji-nasmeha.si/dogodek/obisk-os-kamnica/
LOCATION:OŠ Kamnica
END:VEVENT
BEGIN:VEVENT
DTSTART;TZID=Europe/Helsinki:20231111T090000
DTEND;TZID=Europe/Helsinki:20231111T133000
DTSTAMP:20260420T080200
CREATED:20230315T102453Z
LAST-MODIFIED:20230829T111637Z
UID:1565-1699693200-1699709400@ambasadorji-nasmeha.si
SUMMARY:Tečaj\, 2. dan
DESCRIPTION:Prva skupina od 9-11; druga skupina od 11:30-13:30
URL:https://ambasadorji-nasmeha.si/dogodek/tecaj-2-dan-2/
END:VEVENT
BEGIN:VEVENT
DTSTART;TZID=Europe/Helsinki:20231110T080000
DTEND;TZID=Europe/Helsinki:20231110T090000
DTSTAMP:20260420T080200
CREATED:20231017T151130Z
LAST-MODIFIED:20231017T151130Z
UID:1760-1699603200-1699606800@ambasadorji-nasmeha.si
SUMMARY:RLP Kristina in Twix
DESCRIPTION:OŠ Preserje pri Radomljah
URL:https://ambasadorji-nasmeha.si/dogodek/rlp-kristina-in-twix/
END:VEVENT
BEGIN:VEVENT
DTSTART;TZID=Europe/Helsinki:20231109T170000
DTEND;TZID=Europe/Helsinki:20231109T180000
DTSTAMP:20260420T080200
CREATED:20231017T151201Z
LAST-MODIFIED:20231017T151201Z
UID:1762-1699549200-1699552800@ambasadorji-nasmeha.si
SUMMARY:RLP Darinka in Liza
DESCRIPTION:Knjižnica Trata
URL:https://ambasadorji-nasmeha.si/dogodek/rlp-darinka-in-liza/
END:VEVENT
BEGIN:VEVENT
DTSTART;TZID=Europe/Helsinki:20231104T090000
DTEND;TZID=Europe/Helsinki:20231104T133000
DTSTAMP:20260420T080200
CREATED:20230315T102429Z
LAST-MODIFIED:20230829T111526Z
UID:1563-1699088400-1699104600@ambasadorji-nasmeha.si
SUMMARY:Tečaj\, 1. dan
DESCRIPTION:Prva skupina od 9-11; druga skupina od 11:30-13:30
URL:https://ambasadorji-nasmeha.si/dogodek/tecaj-1-dan-2/
END:VEVENT
BEGIN:VEVENT
DTSTART;TZID=Europe/Helsinki:20231102T190000
DTEND;TZID=Europe/Helsinki:20231102T210000
DTSTAMP:20260420T080200
CREATED:20230903T133249Z
LAST-MODIFIED:20230903T133249Z
UID:1699-1698951600-1698958800@ambasadorji-nasmeha.si
SUMMARY:Redni društveni sestanek
DESCRIPTION:
URL:https://ambasadorji-nasmeha.si/dogodek/redni-drustveni-sestanek-45/
LOCATION:Lepodvorska 3
END:VEVENT
BEGIN:VEVENT
DTSTART;TZID=Europe/Helsinki:20231030T090000
DTEND;TZID=Europe/Helsinki:20231030T130000
DTSTAMP:20260420T080200
CREATED:20231013T101841Z
LAST-MODIFIED:20231013T101841Z
UID:1756-1698656400-1698670800@ambasadorji-nasmeha.si
SUMMARY:Kužkovanje na OŠ Ormož
DESCRIPTION:Sonja in Poldi\, Urška in Mila\, Borut
URL:https://ambasadorji-nasmeha.si/dogodek/kuzkovanje-na-os-ormoz/
LOCATION:OŠ Ormož
END:VEVENT
BEGIN:VEVENT
DTSTART;TZID=Europe/Helsinki:20231021T150000
DTEND;TZID=Europe/Helsinki:20231021T160000
DTSTAMP:20260420T080200
CREATED:20230912T083807Z
LAST-MODIFIED:20230912T083807Z
UID:1746-1697900400-1697904000@ambasadorji-nasmeha.si
SUMMARY:NARAVA ZDRAVJE
DESCRIPTION:Katja in As\, Andreja in Ari
URL:https://ambasadorji-nasmeha.si/dogodek/narava-zdravje-2/
LOCATION:GOSPODARSKO RAZSTAVIŠČE
END:VEVENT
BEGIN:VEVENT
DTSTART;TZID=Europe/Helsinki:20231021T090000
DTEND;TZID=Europe/Helsinki:20231021T150000
DTSTAMP:20260420T080200
CREATED:20230821T143537Z
LAST-MODIFIED:20230912T084106Z
UID:1670-1697878800-1697900400@ambasadorji-nasmeha.si
SUMMARY:ŠOLSKI PES JE MOJ SODELAVEC
DESCRIPTION:Izobraževanje za VIZ kader\, brez živali!
URL:https://ambasadorji-nasmeha.si/dogodek/solski-pes-je-moj-sodelavec-2/
LOCATION:BTC Logistični center
END:VEVENT
END:VCALENDAR