BEGIN:VCALENDAR
VERSION:2.0
PRODID:-//Ambasadorji nasmeha - ECPv6.9.1//NONSGML v1.0//EN
CALSCALE:GREGORIAN
METHOD:PUBLISH
X-WR-CALNAME:Ambasadorji nasmeha
X-ORIGINAL-URL:https://ambasadorji-nasmeha.si
X-WR-CALDESC:Events for Ambasadorji nasmeha
REFRESH-INTERVAL;VALUE=DURATION:PT1H
X-Robots-Tag:noindex
X-PUBLISHED-TTL:PT1H
BEGIN:VTIMEZONE
TZID:Europe/Helsinki
BEGIN:DAYLIGHT
TZOFFSETFROM:+0200
TZOFFSETTO:+0300
TZNAME:EEST
DTSTART:20230326T010000
END:DAYLIGHT
BEGIN:STANDARD
TZOFFSETFROM:+0300
TZOFFSETTO:+0200
TZNAME:EET
DTSTART:20231029T010000
END:STANDARD
END:VTIMEZONE
BEGIN:VEVENT
DTSTART;TZID=Europe/Helsinki:20230527T080000
DTEND;TZID=Europe/Helsinki:20230527T170000
DTSTAMP:20260420T085534
CREATED:20230226T181936Z
LAST-MODIFIED:20230226T181936Z
UID:1548-1685174400-1685206800@ambasadorji-nasmeha.si
SUMMARY:OPN - VELIKO SREČANJE ALFISTOV
DESCRIPTION:
URL:https://ambasadorji-nasmeha.si/dogodek/opn-veliko-srecanje-alfistov/
LOCATION:Letališče Lesce
END:VEVENT
BEGIN:VEVENT
DTSTART;TZID=Europe/Helsinki:20230525T130000
DTEND;TZID=Europe/Helsinki:20230525T170000
DTSTAMP:20260420T085534
CREATED:20230420T141342Z
LAST-MODIFIED:20230420T141342Z
UID:1592-1685019600-1685034000@ambasadorji-nasmeha.si
SUMMARY:VESELI DAN PROSTOVOLJSTVA
DESCRIPTION:Než\, Sonja\, Urška\, Nina in Denny\, Živa in Nacho
URL:https://ambasadorji-nasmeha.si/dogodek/veseli-dan-prostovoljstva/
END:VEVENT
BEGIN:VEVENT
DTSTART;TZID=Europe/Helsinki:20230524T080000
DTEND;TZID=Europe/Helsinki:20230524T170000
DTSTAMP:20260420T085534
CREATED:20230623T151204Z
LAST-MODIFIED:20230623T151243Z
UID:1637-1684915200-1684947600@ambasadorji-nasmeha.si
SUMMARY:Obisk POŠ Blagovica
DESCRIPTION:Happy\, Mila in Urška
URL:https://ambasadorji-nasmeha.si/dogodek/obisk-pos-blagovica/
END:VEVENT
BEGIN:VEVENT
DTSTART;TZID=Europe/Helsinki:20230518T190000
DTEND;TZID=Europe/Helsinki:20230518T210000
DTSTAMP:20260420T085534
CREATED:20221212T163555Z
LAST-MODIFIED:20221212T163555Z
UID:1502-1684436400-1684443600@ambasadorji-nasmeha.si
SUMMARY:Redni društveni sestanek
DESCRIPTION:
URL:https://ambasadorji-nasmeha.si/dogodek/redni-drustveni-sestanek-38/
LOCATION:Lepodvorska 3
END:VEVENT
BEGIN:VEVENT
DTSTART;TZID=Europe/Helsinki:20230518T080000
DTEND;TZID=Europe/Helsinki:20230518T123000
DTSTAMP:20260420T085534
CREATED:20230507T100920Z
LAST-MODIFIED:20230507T100920Z
UID:1605-1684396800-1684413000@ambasadorji-nasmeha.si
SUMMARY:DAN PREVENTIVE _ OPN
DESCRIPTION:Nina in Denny; Pavlina in Ajka; Sonja
URL:https://ambasadorji-nasmeha.si/dogodek/dan-preventive-_-opn/
END:VEVENT
BEGIN:VEVENT
DTSTART;TZID=Europe/Helsinki:20230517T140000
DTEND;TZID=Europe/Helsinki:20230517T170000
DTSTAMP:20260420T085534
CREATED:20230112T112033Z
LAST-MODIFIED:20230112T112033Z
UID:1518-1684332000-1684342800@ambasadorji-nasmeha.si
SUMMARY:OPN - Pedagoška fakulteta
DESCRIPTION:
URL:https://ambasadorji-nasmeha.si/dogodek/opn-pedagoska-fakulteta/
LOCATION:Pedagoška fakulteta
END:VEVENT
BEGIN:VEVENT
DTSTART;TZID=Europe/Helsinki:20230515T180000
DTEND;TZID=Europe/Helsinki:20230515T193000
DTSTAMP:20260420T085534
CREATED:20230508T102108Z
LAST-MODIFIED:20230508T102108Z
UID:1607-1684173600-1684179000@ambasadorji-nasmeha.si
SUMMARY:SVETOVNI KONGRES O ANKSIOZNOSTI - OPN
DESCRIPTION:Projekt Serotonin\, ki deluje pod okriljem Društva študentov medicine Maribor in se ukvarja z destigmatizacijo duševnega zdravja. V ponedeljek\, 15. 5.\, organizira v sodelovanju z ljubljanskim projektom V odsevu\, kongres na temo anksioznosti.
URL:https://ambasadorji-nasmeha.si/dogodek/svetovni-kongres-o-anksioznosti-opn/
LOCATION:Taborska 8\, Maribor
END:VEVENT
BEGIN:VEVENT
DTSTART;TZID=Europe/Helsinki:20230510T100000
DTEND;TZID=Europe/Helsinki:20230510T110000
DTSTAMP:20260420T085534
CREATED:20230420T141703Z
LAST-MODIFIED:20230623T151054Z
UID:1600-1683712800-1683716400@ambasadorji-nasmeha.si
SUMMARY:Vrtec Andersen
DESCRIPTION:Enota Marjetica\, obisk Happyja
URL:https://ambasadorji-nasmeha.si/dogodek/vrtec-andersen-opn/
END:VEVENT
BEGIN:VEVENT
DTSTART;TZID=Europe/Helsinki:20230504T190000
DTEND;TZID=Europe/Helsinki:20230504T210000
DTSTAMP:20260420T085534
CREATED:20221212T163511Z
LAST-MODIFIED:20221212T163511Z
UID:1500-1683226800-1683234000@ambasadorji-nasmeha.si
SUMMARY:Redni društveni sestanek
DESCRIPTION:
URL:https://ambasadorji-nasmeha.si/dogodek/redni-drustveni-sestanek-37/
LOCATION:Lepodvorska 3
END:VEVENT
BEGIN:VEVENT
DTSTART;TZID=Europe/Helsinki:20230424T090000
DTEND;TZID=Europe/Helsinki:20230424T100000
DTSTAMP:20260420T085534
CREATED:20230912T091331Z
LAST-MODIFIED:20230912T091331Z
UID:1751-1682326800-1682330400@ambasadorji-nasmeha.si
SUMMARY:OŠ NOTRANJE GORICE - RLP
DESCRIPTION:Sonja in Ari; Irena\, Urška
URL:https://ambasadorji-nasmeha.si/dogodek/os-notranje-gorice-rlp/
END:VEVENT
BEGIN:VEVENT
DTSTART;TZID=Europe/Helsinki:20230422T110000
DTEND;TZID=Europe/Helsinki:20230422T120000
DTSTAMP:20260420T085534
CREATED:20230319T143835Z
LAST-MODIFIED:20230319T143835Z
UID:1582-1682161200-1682164800@ambasadorji-nasmeha.si
SUMMARY:Obisk Plesni Epicenter - OPN
DESCRIPTION:
URL:https://ambasadorji-nasmeha.si/dogodek/obisk-plesni-epicenter-opn/
END:VEVENT
BEGIN:VEVENT
DTSTART;TZID=Europe/Helsinki:20230420T190000
DTEND;TZID=Europe/Helsinki:20230420T210000
DTSTAMP:20260420T085534
CREATED:20221212T163437Z
LAST-MODIFIED:20221212T163437Z
UID:1498-1682017200-1682024400@ambasadorji-nasmeha.si
SUMMARY:Redni društveni sestanek
DESCRIPTION:
URL:https://ambasadorji-nasmeha.si/dogodek/redni-drustveni-sestanek-36/
LOCATION:Lepodvorska 3
END:VEVENT
BEGIN:VEVENT
DTSTART;TZID=Europe/Helsinki:20230419T150000
DTEND;TZID=Europe/Helsinki:20230419T170000
DTSTAMP:20260420T085534
CREATED:20230314T095024Z
LAST-MODIFIED:20230314T095024Z
UID:1555-1681916400-1681923600@ambasadorji-nasmeha.si
SUMMARY:Dan dobrega počutja OPN
DESCRIPTION:Delavnica s študenti psihologije\, Maribor
URL:https://ambasadorji-nasmeha.si/dogodek/dan-dobrega-pocutja-opn/
END:VEVENT
BEGIN:VEVENT
DTSTART;TZID=Europe/Helsinki:20230412T080000
DTEND;TZID=Europe/Helsinki:20230412T100000
DTSTAMP:20260420T085534
CREATED:20230306T160813Z
LAST-MODIFIED:20230306T160813Z
UID:1552-1681286400-1681293600@ambasadorji-nasmeha.si
SUMMARY:DAN DEJAVNOSTI - športne igre s terapevtskimi psi - OPN
DESCRIPTION:Irma in Alvin in delovni pari AN
URL:https://ambasadorji-nasmeha.si/dogodek/dan-dejavnosti-sportne-igre-s-terapevtskimi-psi-opn/
LOCATION:CIRIUS KAMNIK
END:VEVENT
BEGIN:VEVENT
DTSTART;TZID=Europe/Helsinki:20230406T190000
DTEND;TZID=Europe/Helsinki:20230406T210000
DTSTAMP:20260420T085534
CREATED:20221212T163416Z
LAST-MODIFIED:20221212T163416Z
UID:1496-1680807600-1680814800@ambasadorji-nasmeha.si
SUMMARY:Redni društveni sestanek
DESCRIPTION:
URL:https://ambasadorji-nasmeha.si/dogodek/redni-drustveni-sestanek-35/
LOCATION:Lepodvorska 3
END:VEVENT
BEGIN:VEVENT
DTSTART;TZID=Europe/Helsinki:20230330T073000
DTEND;TZID=Europe/Helsinki:20230330T080000
DTSTAMP:20260420T085534
CREATED:20230314T095213Z
LAST-MODIFIED:20230314T095213Z
UID:1557-1680161400-1680163200@ambasadorji-nasmeha.si
SUMMARY:Prevzem donacije LIDL
DESCRIPTION:Špela\, Maja in Diva\, Sonja in Poldi\, Lea in Max
URL:https://ambasadorji-nasmeha.si/dogodek/prevzem-donacije-lidl/
LOCATION:Lidl Masarykova
END:VEVENT
BEGIN:VEVENT
DTSTART;TZID=Europe/Helsinki:20230323T183000
DTEND;TZID=Europe/Helsinki:20230323T220000
DTSTAMP:20260420T085534
CREATED:20221212T163342Z
LAST-MODIFIED:20221212T163342Z
UID:1494-1679596200-1679608800@ambasadorji-nasmeha.si
SUMMARY:Redni društveni sestanek - ZBOR ČLANOV
DESCRIPTION:
URL:https://ambasadorji-nasmeha.si/dogodek/redni-drustveni-sestanek-zbor-clanov/
LOCATION:Lepodvorska 3
END:VEVENT
BEGIN:VEVENT
DTSTART;TZID=Europe/Helsinki:20230309T190000
DTEND;TZID=Europe/Helsinki:20230309T210000
DTSTAMP:20260420T085534
CREATED:20221212T163310Z
LAST-MODIFIED:20221212T163310Z
UID:1492-1678388400-1678395600@ambasadorji-nasmeha.si
SUMMARY:Redni društveni sestanek
DESCRIPTION:
URL:https://ambasadorji-nasmeha.si/dogodek/redni-drustveni-sestanek-34/
LOCATION:Lepodvorska 3
END:VEVENT
BEGIN:VEVENT
DTSTART;TZID=Europe/Helsinki:20230303T100000
DTEND;TZID=Europe/Helsinki:20230303T113000
DTSTAMP:20260420T085534
CREATED:20230203T173425Z
LAST-MODIFIED:20230203T173425Z
UID:1535-1677837600-1677843000@ambasadorji-nasmeha.si
SUMMARY:Obisk vrtca Hrastnik\, Dol
DESCRIPTION:Sonja in Poldi\, Alenka in Maya\, Urška in Mila
URL:https://ambasadorji-nasmeha.si/dogodek/obisk-vrtca-hrastnik-dol/
END:VEVENT
BEGIN:VEVENT
DTSTART;TZID=Europe/Helsinki:20230227T100000
DTEND;TZID=Europe/Helsinki:20230227T110000
DTSTAMP:20260420T085534
CREATED:20230203T173745Z
LAST-MODIFIED:20230203T173745Z
UID:1539-1677492000-1677495600@ambasadorji-nasmeha.si
SUMMARY:OPN vrtec Jelka
DESCRIPTION:Urška in Happy; Než in Sonja
URL:https://ambasadorji-nasmeha.si/dogodek/opn-vrtec-jelka/
END:VEVENT
BEGIN:VEVENT
DTSTART;TZID=Europe/Helsinki:20230224T170000
DTEND;TZID=Europe/Helsinki:20230224T190000
DTSTAMP:20260420T085534
CREATED:20230112T111936Z
LAST-MODIFIED:20230118T191203Z
UID:1515-1677258000-1677265200@ambasadorji-nasmeha.si
SUMMARY:RIJEKA PSIHOLOGIJE
DESCRIPTION:OPN Andrea in Chilly\, Urška in Happy; Borut\, Sonja \nRLP Jasmina in Kora
URL:https://ambasadorji-nasmeha.si/dogodek/rijeka-psihologije/
LOCATION:RIJEKA
END:VEVENT
BEGIN:VEVENT
DTSTART;TZID=Europe/Helsinki:20230223T190000
DTEND;TZID=Europe/Helsinki:20230223T210000
DTSTAMP:20260420T085534
CREATED:20221212T163234Z
LAST-MODIFIED:20221212T163234Z
UID:1490-1677178800-1677186000@ambasadorji-nasmeha.si
SUMMARY:Redni društveni sestanek
DESCRIPTION:
URL:https://ambasadorji-nasmeha.si/dogodek/redni-drustveni-sestanek-33/
LOCATION:Lepodvorska 3
END:VEVENT
BEGIN:VEVENT
DTSTART;TZID=Europe/Helsinki:20230223T113000
DTEND;TZID=Europe/Helsinki:20230223T130000
DTSTAMP:20260420T085534
CREATED:20230120T195310Z
LAST-MODIFIED:20230120T195310Z
UID:1531-1677151800-1677157200@ambasadorji-nasmeha.si
SUMMARY:Predstavitev na Zootehniki\, Rodica
DESCRIPTION:
URL:https://ambasadorji-nasmeha.si/dogodek/predstavitev-na-zootehniki-rodica/
END:VEVENT
BEGIN:VEVENT
DTSTART;TZID=Europe/Helsinki:20230219T090000
DTEND;TZID=Europe/Helsinki:20230219T150000
DTSTAMP:20260420T085534
CREATED:20221212T162932Z
LAST-MODIFIED:20221212T162932Z
UID:1482-1676797200-1676818800@ambasadorji-nasmeha.si
SUMMARY:SEMINAR ZA STROKOVNI KADER - VIZ
DESCRIPTION:
URL:https://ambasadorji-nasmeha.si/dogodek/seminar-za-strokovni-kader-viz-2/
END:VEVENT
BEGIN:VEVENT
DTSTART;TZID=Europe/Helsinki:20230218T090000
DTEND;TZID=Europe/Helsinki:20230218T150000
DTSTAMP:20260420T085534
CREATED:20221212T162907Z
LAST-MODIFIED:20221212T162907Z
UID:1480-1676710800-1676732400@ambasadorji-nasmeha.si
SUMMARY:SEMINAR ZA STROKOVNI KADER - VIZ
DESCRIPTION:
URL:https://ambasadorji-nasmeha.si/dogodek/seminar-za-strokovni-kader-viz/
END:VEVENT
BEGIN:VEVENT
DTSTART;TZID=Europe/Helsinki:20230217T110000
DTEND;TZID=Europe/Helsinki:20230217T120000
DTSTAMP:20260420T085534
CREATED:20230203T173543Z
LAST-MODIFIED:20230203T173543Z
UID:1537-1676631600-1676635200@ambasadorji-nasmeha.si
SUMMARY:OPN Cirius Kamnik
DESCRIPTION:Urška in Happy; Irma in Sonja
URL:https://ambasadorji-nasmeha.si/dogodek/opn-cirius-kamnik-10/
END:VEVENT
BEGIN:VEVENT
DTSTART;TZID=Europe/Helsinki:20230209T190000
DTEND;TZID=Europe/Helsinki:20230209T210000
DTSTAMP:20260420T085534
CREATED:20221212T163159Z
LAST-MODIFIED:20221212T163159Z
UID:1488-1675969200-1675976400@ambasadorji-nasmeha.si
SUMMARY:Redni društveni sestanek
DESCRIPTION:
URL:https://ambasadorji-nasmeha.si/dogodek/redni-drustveni-sestanek-32/
LOCATION:Lepodvorska 3
END:VEVENT
BEGIN:VEVENT
DTSTART;TZID=Europe/Helsinki:20230127T110000
DTEND;TZID=Europe/Helsinki:20230127T120000
DTSTAMP:20260420T085534
CREATED:20230120T195122Z
LAST-MODIFIED:20230120T195122Z
UID:1529-1674817200-1674820800@ambasadorji-nasmeha.si
SUMMARY:RLP - vrtec Ciciban
DESCRIPTION:Tamara in Lola; Sonja\, Urška
URL:https://ambasadorji-nasmeha.si/dogodek/rlp-vrtec-ciciban/
END:VEVENT
BEGIN:VEVENT
DTSTART;TZID=Europe/Helsinki:20230126T190000
DTEND;TZID=Europe/Helsinki:20230126T210000
DTSTAMP:20260420T085534
CREATED:20221212T163131Z
LAST-MODIFIED:20221212T163131Z
UID:1486-1674759600-1674766800@ambasadorji-nasmeha.si
SUMMARY:Redni društveni sestanek
DESCRIPTION:
URL:https://ambasadorji-nasmeha.si/dogodek/redni-drustveni-sestanek-31/
LOCATION:Lepodvorska 3
END:VEVENT
BEGIN:VEVENT
DTSTART;TZID=Europe/Helsinki:20230126T180000
DTEND;TZID=Europe/Helsinki:20230126T190000
DTSTAMP:20260420T085534
CREATED:20230118T191113Z
LAST-MODIFIED:20230118T191113Z
UID:1526-1674756000-1674759600@ambasadorji-nasmeha.si
SUMMARY:UO sestanek
DESCRIPTION:
URL:https://ambasadorji-nasmeha.si/dogodek/uo-sestanek-3/
LOCATION:Lepodvorska 3
END:VEVENT
END:VCALENDAR