BEGIN:VCALENDAR
VERSION:2.0
PRODID:-//Ambasadorji nasmeha - ECPv6.9.1//NONSGML v1.0//EN
CALSCALE:GREGORIAN
METHOD:PUBLISH
X-WR-CALNAME:Ambasadorji nasmeha
X-ORIGINAL-URL:https://ambasadorji-nasmeha.si
X-WR-CALDESC:Events for Ambasadorji nasmeha
REFRESH-INTERVAL;VALUE=DURATION:PT1H
X-Robots-Tag:noindex
X-PUBLISHED-TTL:PT1H
BEGIN:VTIMEZONE
TZID:Europe/Helsinki
BEGIN:DAYLIGHT
TZOFFSETFROM:+0200
TZOFFSETTO:+0300
TZNAME:EEST
DTSTART:20220327T010000
END:DAYLIGHT
BEGIN:STANDARD
TZOFFSETFROM:+0300
TZOFFSETTO:+0200
TZNAME:EET
DTSTART:20221030T010000
END:STANDARD
BEGIN:DAYLIGHT
TZOFFSETFROM:+0200
TZOFFSETTO:+0300
TZNAME:EEST
DTSTART:20230326T010000
END:DAYLIGHT
BEGIN:STANDARD
TZOFFSETFROM:+0300
TZOFFSETTO:+0200
TZNAME:EET
DTSTART:20231029T010000
END:STANDARD
END:VTIMEZONE
BEGIN:VEVENT
DTSTART;TZID=Europe/Helsinki:20230116T080000
DTEND;TZID=Europe/Helsinki:20230116T090000
DTSTAMP:20260420T071733
CREATED:20230112T134354Z
LAST-MODIFIED:20230112T134354Z
UID:1522-1673856000-1673859600@ambasadorji-nasmeha.si
SUMMARY:OPN OŠ Savsko naselje
DESCRIPTION:Urška in Happy; Sonja in Borut
URL:https://ambasadorji-nasmeha.si/dogodek/opn-os-savsko-naselje-4/
END:VEVENT
BEGIN:VEVENT
DTSTART;TZID=Europe/Helsinki:20230114T100000
DTEND;TZID=Europe/Helsinki:20230114T140000
DTSTAMP:20260420T071733
CREATED:20230118T191032Z
LAST-MODIFIED:20230118T191032Z
UID:1524-1673690400-1673704800@ambasadorji-nasmeha.si
SUMMARY:Izpit 2. rok in RLP
DESCRIPTION:RLP Jasna in Cini; Borut\, Irma\, Urška
URL:https://ambasadorji-nasmeha.si/dogodek/izpit-2-rok-in-rlp/
LOCATION:Lepodvorska 3
END:VEVENT
BEGIN:VEVENT
DTSTART;TZID=Europe/Helsinki:20230112T190000
DTEND;TZID=Europe/Helsinki:20230112T210000
DTSTAMP:20260420T071733
CREATED:20221212T163108Z
LAST-MODIFIED:20221212T163108Z
UID:1484-1673550000-1673557200@ambasadorji-nasmeha.si
SUMMARY:Redni društveni sestanek
DESCRIPTION:
URL:https://ambasadorji-nasmeha.si/dogodek/redni-drustveni-sestanek-30/
LOCATION:Lepodvorska 3
END:VEVENT
BEGIN:VEVENT
DTSTART;TZID=Europe/Helsinki:20230112T180000
DTEND;TZID=Europe/Helsinki:20230112T213000
DTSTAMP:20260420T071733
CREATED:20221213T102444Z
LAST-MODIFIED:20221213T102444Z
UID:1511-1673546400-1673559000@ambasadorji-nasmeha.si
SUMMARY:SESTANEK KZI - DELAVNICA ZA VIZ
DESCRIPTION:
URL:https://ambasadorji-nasmeha.si/dogodek/sestanek-kzi-delavnica-za-viz/
LOCATION:Lepodvorska 3
END:VEVENT
BEGIN:VEVENT
DTSTART;TZID=Europe/Helsinki:20221223T180000
DTEND;TZID=Europe/Helsinki:20221223T193000
DTSTAMP:20260420T071733
CREATED:20221212T155431Z
LAST-MODIFIED:20221212T155431Z
UID:1478-1671818400-1671823800@ambasadorji-nasmeha.si
SUMMARY:ZIMSKA LADJICA
DESCRIPTION:Gremo gledat lučke z gladine Ljubljanice!
URL:https://ambasadorji-nasmeha.si/dogodek/zimska-ladjica/
END:VEVENT
BEGIN:VEVENT
DTSTART;TZID=Europe/Helsinki:20221216T180000
DTEND;TZID=Europe/Helsinki:20221216T223000
DTSTAMP:20260420T071733
CREATED:20221106T155052Z
LAST-MODIFIED:20221212T155346Z
UID:1420-1671213600-1671229800@ambasadorji-nasmeha.si
SUMMARY:BOŽIČKOVANJE
DESCRIPTION:
URL:https://ambasadorji-nasmeha.si/dogodek/bozickovanje/
LOCATION:PGD Trnovo
END:VEVENT
BEGIN:VEVENT
DTSTART;TZID=Europe/Helsinki:20221215T190000
DTEND;TZID=Europe/Helsinki:20221215T210000
DTSTAMP:20260420T071733
CREATED:20220823T165135Z
LAST-MODIFIED:20220823T165135Z
UID:1343-1671130800-1671138000@ambasadorji-nasmeha.si
SUMMARY:Redni društveni sestanek
DESCRIPTION:
URL:https://ambasadorji-nasmeha.si/dogodek/redni-drustveni-sestanek-29/
LOCATION:Lepodvorska 3
END:VEVENT
BEGIN:VEVENT
DTSTART;TZID=Europe/Helsinki:20221210T080000
DTEND;TZID=Europe/Helsinki:20221210T170000
DTSTAMP:20260420T071733
CREATED:20220508T193408Z
LAST-MODIFIED:20221106T154919Z
UID:1232-1670659200-1670691600@ambasadorji-nasmeha.si
SUMMARY:DELNI PRAKTIČNI IN TEORETIČNI IZPITI
DESCRIPTION:
URL:https://ambasadorji-nasmeha.si/dogodek/delni-prakticni-in-teoreticni-izpiti/
LOCATION:PGD Trnovo
END:VEVENT
BEGIN:VEVENT
DTSTART;TZID=Europe/Helsinki:20221203T080000
DTEND;TZID=Europe/Helsinki:20221203T170000
DTSTAMP:20260420T071733
CREATED:20220508T193339Z
LAST-MODIFIED:20221106T154907Z
UID:1230-1670054400-1670086800@ambasadorji-nasmeha.si
SUMMARY:TEČAJ\, 4. dan
DESCRIPTION:
URL:https://ambasadorji-nasmeha.si/dogodek/tecaj-4-dan/
LOCATION:PGD Trnovo
END:VEVENT
BEGIN:VEVENT
DTSTART;TZID=Europe/Helsinki:20221201T190000
DTEND;TZID=Europe/Helsinki:20221201T210000
DTSTAMP:20260420T071733
CREATED:20220823T165107Z
LAST-MODIFIED:20220823T165107Z
UID:1341-1669921200-1669928400@ambasadorji-nasmeha.si
SUMMARY:Redni društveni sestanek
DESCRIPTION:
URL:https://ambasadorji-nasmeha.si/dogodek/redni-drustveni-sestanek-28/
LOCATION:Lepodvorska 3
END:VEVENT
BEGIN:VEVENT
DTSTART;TZID=Europe/Helsinki:20221126T080000
DTEND;TZID=Europe/Helsinki:20221126T170000
DTSTAMP:20260420T071733
CREATED:20220508T193314Z
LAST-MODIFIED:20221106T154932Z
UID:1228-1669449600-1669482000@ambasadorji-nasmeha.si
SUMMARY:TEČAJ\, 3. dan
DESCRIPTION:
URL:https://ambasadorji-nasmeha.si/dogodek/tecaj-3-dan/
LOCATION:PGD Trnovo
END:VEVENT
BEGIN:VEVENT
DTSTART;TZID=Europe/Helsinki:20221120T080000
DTEND;TZID=Europe/Helsinki:20221120T170000
DTSTAMP:20260420T071733
CREATED:20220508T193244Z
LAST-MODIFIED:20221106T155010Z
UID:1226-1668931200-1668963600@ambasadorji-nasmeha.si
SUMMARY:SEMINAR IN DELAVNICE
DESCRIPTION:
URL:https://ambasadorji-nasmeha.si/dogodek/seminar-in-delavnice-3/
LOCATION:PGD Trnovo
END:VEVENT
BEGIN:VEVENT
DTSTART;TZID=Europe/Helsinki:20221119T080000
DTEND;TZID=Europe/Helsinki:20221119T170000
DTSTAMP:20260420T071733
CREATED:20220508T193229Z
LAST-MODIFIED:20221106T154956Z
UID:1224-1668844800-1668877200@ambasadorji-nasmeha.si
SUMMARY:SEMINAR IN DELAVNICE
DESCRIPTION:
URL:https://ambasadorji-nasmeha.si/dogodek/seminar-in-delavnice-2/
LOCATION:PGD Trnovo
END:VEVENT
BEGIN:VEVENT
DTSTART;TZID=Europe/Helsinki:20221118T170000
DTEND;TZID=Europe/Helsinki:20221118T210000
DTSTAMP:20260420T071733
CREATED:20220508T193210Z
LAST-MODIFIED:20221106T154943Z
UID:1222-1668790800-1668805200@ambasadorji-nasmeha.si
SUMMARY:SEMINAR IN DELAVNICE
DESCRIPTION:
URL:https://ambasadorji-nasmeha.si/dogodek/seminar-in-delavnice/
LOCATION:PGD Trnovo
END:VEVENT
BEGIN:VEVENT
DTSTART;TZID=Europe/Helsinki:20221117T190000
DTEND;TZID=Europe/Helsinki:20221117T210000
DTSTAMP:20260420T071733
CREATED:20220823T165044Z
LAST-MODIFIED:20220823T165044Z
UID:1339-1668711600-1668718800@ambasadorji-nasmeha.si
SUMMARY:Redni društveni sestanek
DESCRIPTION:
URL:https://ambasadorji-nasmeha.si/dogodek/redni-drustveni-sestanek-27/
LOCATION:Lepodvorska 3
END:VEVENT
BEGIN:VEVENT
DTSTART;TZID=Europe/Helsinki:20221112T080000
DTEND;TZID=Europe/Helsinki:20221112T170000
DTSTAMP:20260420T071733
CREATED:20220508T193136Z
LAST-MODIFIED:20221106T154851Z
UID:1220-1668240000-1668272400@ambasadorji-nasmeha.si
SUMMARY:TEČAJ\, 2. dan
DESCRIPTION:
URL:https://ambasadorji-nasmeha.si/dogodek/tecaj-2-dan/
LOCATION:PGD Trnovo
END:VEVENT
BEGIN:VEVENT
DTSTART;TZID=Europe/Helsinki:20221108T163000
DTEND;TZID=Europe/Helsinki:20221108T190000
DTSTAMP:20260420T071733
CREATED:20220922T132521Z
LAST-MODIFIED:20220922T132521Z
UID:1402-1667925000-1667934000@ambasadorji-nasmeha.si
SUMMARY:VEČERJA V TEMI - CENTER IRIS
DESCRIPTION:
URL:https://ambasadorji-nasmeha.si/dogodek/vecerja-v-temi-center-iris/
LOCATION:Center IRIS
END:VEVENT
BEGIN:VEVENT
DTSTART;TZID=Europe/Helsinki:20221105T080000
DTEND;TZID=Europe/Helsinki:20221105T170000
DTSTAMP:20260420T071733
CREATED:20220508T193116Z
LAST-MODIFIED:20220508T193116Z
UID:1218-1667635200-1667667600@ambasadorji-nasmeha.si
SUMMARY:TEČAJ\, 1. dan
DESCRIPTION:
URL:https://ambasadorji-nasmeha.si/dogodek/tecaj-1-dan/
END:VEVENT
BEGIN:VEVENT
DTSTART;TZID=Europe/Helsinki:20221103T190000
DTEND;TZID=Europe/Helsinki:20221103T210000
DTSTAMP:20260420T071733
CREATED:20220823T165022Z
LAST-MODIFIED:20220823T165022Z
UID:1337-1667502000-1667509200@ambasadorji-nasmeha.si
SUMMARY:Redni društveni sestanek
DESCRIPTION:
URL:https://ambasadorji-nasmeha.si/dogodek/redni-drustveni-sestanek-26/
LOCATION:Lepodvorska 3
END:VEVENT
BEGIN:VEVENT
DTSTART;TZID=Europe/Helsinki:20221020T190000
DTEND;TZID=Europe/Helsinki:20221020T210000
DTSTAMP:20260420T071733
CREATED:20220823T164956Z
LAST-MODIFIED:20220823T164956Z
UID:1335-1666292400-1666299600@ambasadorji-nasmeha.si
SUMMARY:Redni društveni sestanek
DESCRIPTION:
URL:https://ambasadorji-nasmeha.si/dogodek/redni-drustveni-sestanek-25/
LOCATION:Lepodvorska 3
END:VEVENT
BEGIN:VEVENT
DTSTART;TZID=Europe/Helsinki:20221018T093000
DTEND;TZID=Europe/Helsinki:20221018T170000
DTSTAMP:20260420T071733
CREATED:20220826T131215Z
LAST-MODIFIED:20221005T173510Z
UID:1371-1666085400-1666112400@ambasadorji-nasmeha.si
SUMMARY:DAN ŽIVALI - vrtec Radenci
DESCRIPTION:
URL:https://ambasadorji-nasmeha.si/dogodek/dan-zivali-vrtec-radenci/
END:VEVENT
BEGIN:VEVENT
DTSTART;TZID=Europe/Helsinki:20221010T170000
DTEND;TZID=Europe/Helsinki:20221010T180000
DTSTAMP:20260420T071733
CREATED:20220929T151730Z
LAST-MODIFIED:20220929T151730Z
UID:1405-1665421200-1665424800@ambasadorji-nasmeha.si
SUMMARY:OPN - Knjižnica Gorenja vas
DESCRIPTION:Darinka in Liza; Irma\, Irena\, Borut\, Urška
URL:https://ambasadorji-nasmeha.si/dogodek/opn-knjiznica-gorenja-vas-2/
END:VEVENT
BEGIN:VEVENT
DTSTART;TZID=Europe/Helsinki:20221007T080000
DTEND;TZID=Europe/Helsinki:20221007T170000
DTSTAMP:20260420T071733
CREATED:20220922T132422Z
LAST-MODIFIED:20220922T132422Z
UID:1400-1665129600-1665162000@ambasadorji-nasmeha.si
SUMMARY:OBISK OŠ DOBROVA
DESCRIPTION:Alenka in Maya
URL:https://ambasadorji-nasmeha.si/dogodek/obisk-os-dobrova/
END:VEVENT
BEGIN:VEVENT
DTSTART;TZID=Europe/Helsinki:20221006T190000
DTEND;TZID=Europe/Helsinki:20221006T210000
DTSTAMP:20260420T071733
CREATED:20220823T164924Z
LAST-MODIFIED:20220823T164924Z
UID:1333-1665082800-1665090000@ambasadorji-nasmeha.si
SUMMARY:Redni društveni sestanek
DESCRIPTION:
URL:https://ambasadorji-nasmeha.si/dogodek/redni-drustveni-sestanek-24/
LOCATION:Lepodvorska 3
END:VEVENT
BEGIN:VEVENT
DTSTART;TZID=Europe/Helsinki:20221005T080000
DTEND;TZID=Europe/Helsinki:20221005T110000
DTSTAMP:20260420T071733
CREATED:20220922T132221Z
LAST-MODIFIED:20220922T132221Z
UID:1395-1664956800-1664967600@ambasadorji-nasmeha.si
SUMMARY:OBISK V OŠ KAMNICA
DESCRIPTION:Sonja in Poldi\, Lidija in Suri\, Urška in Mila
URL:https://ambasadorji-nasmeha.si/dogodek/obisk-v-os-kamnica/
LOCATION:OŠ Kamnica
END:VEVENT
BEGIN:VEVENT
DTSTART;TZID=Europe/Helsinki:20221004T150000
DTEND;TZID=Europe/Helsinki:20221004T183000
DTSTAMP:20260420T071733
CREATED:20221005T173554Z
LAST-MODIFIED:20221005T173554Z
UID:1407-1664895600-1664908200@ambasadorji-nasmeha.si
SUMMARY:Srečanje članov Mreže šolski pes
DESCRIPTION:
URL:https://ambasadorji-nasmeha.si/dogodek/srecanje-clanov-mreze-solski-pes/
END:VEVENT
BEGIN:VEVENT
DTSTART;TZID=Europe/Helsinki:20220928T170000
DTEND;TZID=Europe/Helsinki:20220928T183000
DTSTAMP:20260420T071733
CREATED:20220826T131139Z
LAST-MODIFIED:20220922T132306Z
UID:1369-1664384400-1664389800@ambasadorji-nasmeha.si
SUMMARY:F3ŽO
DESCRIPTION:Zdenka in Kendall; Maja in Frigga; Sonja\, Než\, Urška
URL:https://ambasadorji-nasmeha.si/dogodek/f3zo-3/
END:VEVENT
BEGIN:VEVENT
DTSTART;TZID=Europe/Helsinki:20220927T170000
DTEND;TZID=Europe/Helsinki:20220927T183000
DTSTAMP:20260420T071733
CREATED:20220826T131034Z
LAST-MODIFIED:20220922T132245Z
UID:1367-1664298000-1664303400@ambasadorji-nasmeha.si
SUMMARY:F3ŽO
DESCRIPTION:Alenka in Maya; Ana in Frida; Sonja in Poldi; Borut\, Než
URL:https://ambasadorji-nasmeha.si/dogodek/f3zo-2/
END:VEVENT
BEGIN:VEVENT
DTSTART;TZID=Europe/Helsinki:20220922T190000
DTEND;TZID=Europe/Helsinki:20220922T210000
DTSTAMP:20260420T071733
CREATED:20220819T135641Z
LAST-MODIFIED:20220819T135641Z
UID:1312-1663873200-1663880400@ambasadorji-nasmeha.si
SUMMARY:Redni društveni sestanek
DESCRIPTION:
URL:https://ambasadorji-nasmeha.si/dogodek/redni-drustveni-sestanek-23/
LOCATION:Lepodvorska 3
END:VEVENT
BEGIN:VEVENT
DTSTART;TZID=Europe/Helsinki:20220911T143000
DTEND;TZID=Europe/Helsinki:20220911T160000
DTSTAMP:20260420T071733
CREATED:20220826T131514Z
LAST-MODIFIED:20220826T131514Z
UID:1375-1662906600-1662912000@ambasadorji-nasmeha.si
SUMMARY:OTROŠKI BAZAR
DESCRIPTION:Ana in Frida; Urška in Mila
URL:https://ambasadorji-nasmeha.si/dogodek/otroski-bazar-2/
LOCATION:GOSPODARSKO RAZSTAVIŠČE
END:VEVENT
END:VCALENDAR