BEGIN:VCALENDAR
VERSION:2.0
PRODID:-//Ambasadorji nasmeha - ECPv6.9.1//NONSGML v1.0//EN
CALSCALE:GREGORIAN
METHOD:PUBLISH
X-WR-CALNAME:Ambasadorji nasmeha
X-ORIGINAL-URL:https://ambasadorji-nasmeha.si
X-WR-CALDESC:Events for Ambasadorji nasmeha
REFRESH-INTERVAL;VALUE=DURATION:PT1H
X-Robots-Tag:noindex
X-PUBLISHED-TTL:PT1H
BEGIN:VTIMEZONE
TZID:Europe/Helsinki
BEGIN:DAYLIGHT
TZOFFSETFROM:+0200
TZOFFSETTO:+0300
TZNAME:EEST
DTSTART:20220327T010000
END:DAYLIGHT
BEGIN:STANDARD
TZOFFSETFROM:+0300
TZOFFSETTO:+0200
TZNAME:EET
DTSTART:20221030T010000
END:STANDARD
END:VTIMEZONE
BEGIN:VEVENT
DTSTART;TZID=Europe/Helsinki:20220725T100000
DTEND;TZID=Europe/Helsinki:20220801T110000
DTSTAMP:20260420T043117
CREATED:20220823T165548Z
LAST-MODIFIED:20220823T165800Z
UID:1354-1658743200-1659351600@ambasadorji-nasmeha.si
SUMMARY:Tabor Rdečega križa Škofja Loka
DESCRIPTION:Nika in Vili obiskala otroke v Marindolu\, med 25.7. in 1.8.
URL:https://ambasadorji-nasmeha.si/dogodek/du-podbrdo/
END:VEVENT
BEGIN:VEVENT
DTSTART;TZID=Europe/Helsinki:20220714T100000
DTEND;TZID=Europe/Helsinki:20220714T110000
DTSTAMP:20260420T043117
CREATED:20220823T165439Z
LAST-MODIFIED:20220823T165439Z
UID:1350-1657792800-1657796400@ambasadorji-nasmeha.si
SUMMARY:OPN DSO Preddvor
DESCRIPTION:Alenka in Maya; Irena
URL:https://ambasadorji-nasmeha.si/dogodek/opn-dso-preddvor/
END:VEVENT
BEGIN:VEVENT
DTSTART;TZID=Europe/Helsinki:20220706T143000
DTEND;TZID=Europe/Helsinki:20220706T163000
DTSTAMP:20260420T043117
CREATED:20220612T133418Z
LAST-MODIFIED:20220612T133418Z
UID:1290-1657117800-1657125000@ambasadorji-nasmeha.si
SUMMARY:OPN Cirius Vipava - poletne delavnice
DESCRIPTION:Ana in Frida; Darinka in Liza\, Simona in Bonnie\, Alenka in Maya; Sonja in Urška
URL:https://ambasadorji-nasmeha.si/dogodek/opn-cirius-vipava-poletne-delavnice/
END:VEVENT
BEGIN:VEVENT
DTSTART;TZID=Europe/Helsinki:20220623T150000
DTEND;TZID=Europe/Helsinki:20220623T210000
DTSTAMP:20260420T043117
CREATED:20220427T112041Z
LAST-MODIFIED:20220427T112041Z
UID:1096-1655996400-1656018000@ambasadorji-nasmeha.si
SUMMARY:PODELITEV PRIZNANJ IN ZAKLJUČNI PIKNIK
DESCRIPTION:Tradicionalno srečanje ob zaključku
URL:https://ambasadorji-nasmeha.si/dogodek/podelitev-priznanj-in-zakljucni-piknik/
END:VEVENT
BEGIN:VEVENT
DTSTART;TZID=Europe/Helsinki:20220616T190000
DTEND;TZID=Europe/Helsinki:20220616T210000
DTSTAMP:20260420T043117
CREATED:20220427T114440Z
LAST-MODIFIED:20220427T114440Z
UID:1137-1655406000-1655413200@ambasadorji-nasmeha.si
SUMMARY:Redni društveni sestanek
DESCRIPTION:
URL:https://ambasadorji-nasmeha.si/dogodek/redni-drustveni-sestanek-21/
LOCATION:Lepodvorska 3
END:VEVENT
BEGIN:VEVENT
DTSTART;TZID=Europe/Helsinki:20220615T090000
DTEND;TZID=Europe/Helsinki:20220615T100000
DTSTAMP:20260420T043117
CREATED:20220612T133045Z
LAST-MODIFIED:20220612T133045Z
UID:1288-1655283600-1655287200@ambasadorji-nasmeha.si
SUMMARY:OPN Vrtec Jesenice
DESCRIPTION:Katja in As; Sonja in Urška
URL:https://ambasadorji-nasmeha.si/dogodek/opn-vrtec-jesenice/
END:VEVENT
BEGIN:VEVENT
DTSTART;TZID=Europe/Helsinki:20220613T170000
DTEND;TZID=Europe/Helsinki:20220613T180000
DTSTAMP:20260420T043117
CREATED:20220518T083057Z
LAST-MODIFIED:20220827T164053Z
UID:1257-1655139600-1655143200@ambasadorji-nasmeha.si
SUMMARY:OPN Cirius Kamnik
DESCRIPTION:Simona in Bonjie; Urška\, Borut\, Sonja
URL:https://ambasadorji-nasmeha.si/dogodek/opn-cirius-kamnik-8/
END:VEVENT
BEGIN:VEVENT
DTSTART;TZID=Europe/Helsinki:20220611T140000
DTEND;TZID=Europe/Helsinki:20220611T170000
DTSTAMP:20260420T043117
CREATED:20220427T111958Z
LAST-MODIFIED:20220427T111958Z
UID:1094-1654956000-1654966800@ambasadorji-nasmeha.si
SUMMARY:ORANŽNA SOBOTA
DESCRIPTION:Druženje na ladjici
URL:https://ambasadorji-nasmeha.si/dogodek/oranzna-sobota/
END:VEVENT
BEGIN:VEVENT
DTSTART;TZID=Europe/Helsinki:20220610T073000
DTEND;TZID=Europe/Helsinki:20220610T090000
DTSTAMP:20260420T043117
CREATED:20220603T121743Z
LAST-MODIFIED:20220603T121743Z
UID:1280-1654846200-1654851600@ambasadorji-nasmeha.si
SUMMARY:OPN OŠ Mirna
DESCRIPTION:Zala in Jon; Sonja in Urška
URL:https://ambasadorji-nasmeha.si/dogodek/opn-os-mirna-2/
END:VEVENT
BEGIN:VEVENT
DTSTART;TZID=Europe/Helsinki:20220609T100000
DTEND;TZID=Europe/Helsinki:20220609T110000
DTSTAMP:20260420T043117
CREATED:20220427T195712Z
LAST-MODIFIED:20220427T195712Z
UID:1152-1654768800-1654772400@ambasadorji-nasmeha.si
SUMMARY:OPN vrtec Murgle RO
DESCRIPTION:Ana in Frida; Urška
URL:https://ambasadorji-nasmeha.si/dogodek/opn-vrtec-murgle-ro/
END:VEVENT
BEGIN:VEVENT
DTSTART;TZID=Europe/Helsinki:20220608T170000
DTEND;TZID=Europe/Helsinki:20220608T180000
DTSTAMP:20260420T043117
CREATED:20220607T194603Z
LAST-MODIFIED:20220607T194603Z
UID:1285-1654707600-1654711200@ambasadorji-nasmeha.si
SUMMARY:OPN OŠ Jela Janežiča
DESCRIPTION:Darinka in Liza; Irma in Urška
URL:https://ambasadorji-nasmeha.si/dogodek/opn-os-jela-janezica-5/
END:VEVENT
BEGIN:VEVENT
DTSTART;TZID=Europe/Helsinki:20220608T130000
DTEND;TZID=Europe/Helsinki:20220608T140000
DTSTAMP:20260420T043117
CREATED:20220603T121844Z
LAST-MODIFIED:20220603T121844Z
UID:1282-1654693200-1654696800@ambasadorji-nasmeha.si
SUMMARY:OPN OŠ Preserje
DESCRIPTION:Simona in Bonnie; Sonja in Urška
URL:https://ambasadorji-nasmeha.si/dogodek/opn-os-preserje/
END:VEVENT
BEGIN:VEVENT
DTSTART;TZID=Europe/Helsinki:20220607T100000
DTEND;TZID=Europe/Helsinki:20220607T110000
DTSTAMP:20260420T043117
CREATED:20220528T163427Z
LAST-MODIFIED:20220528T163427Z
UID:1273-1654596000-1654599600@ambasadorji-nasmeha.si
SUMMARY:OPN DEOS NOTRANJE GORICE
DESCRIPTION:Ana in Frida; Sonja\, Irena
URL:https://ambasadorji-nasmeha.si/dogodek/opn-deos-notranje-gorice-5/
END:VEVENT
BEGIN:VEVENT
DTSTART;TZID=Europe/Helsinki:20220606T160000
DTEND;TZID=Europe/Helsinki:20220606T170000
DTSTAMP:20260420T043117
CREATED:20220530T140717Z
LAST-MODIFIED:20220530T140717Z
UID:1276-1654531200-1654534800@ambasadorji-nasmeha.si
SUMMARY:Predstavitev na OŠ Trbovlje
DESCRIPTION:
URL:https://ambasadorji-nasmeha.si/dogodek/predstavitev-na-os-trbovlje/
END:VEVENT
BEGIN:VEVENT
DTSTART;TZID=Europe/Helsinki:20220604T150000
DTEND;TZID=Europe/Helsinki:20220604T170000
DTSTAMP:20260420T043117
CREATED:20220427T112529Z
LAST-MODIFIED:20220427T112529Z
UID:1105-1654354800-1654362000@ambasadorji-nasmeha.si
SUMMARY:OPN NOVA GORICA
DESCRIPTION:Simona in Bonnie\, Lidija in Suri\, Darinka in Liza\, Než\, Urška
URL:https://ambasadorji-nasmeha.si/dogodek/opn-nova-gorica/
END:VEVENT
BEGIN:VEVENT
DTSTART;TZID=Europe/Helsinki:20220602T190000
DTEND;TZID=Europe/Helsinki:20220602T210000
DTSTAMP:20260420T043117
CREATED:20220427T114307Z
LAST-MODIFIED:20220427T114307Z
UID:1135-1654196400-1654203600@ambasadorji-nasmeha.si
SUMMARY:Redni društveni sestanek
DESCRIPTION:
URL:https://ambasadorji-nasmeha.si/dogodek/redni-drustveni-sestanek-20/
LOCATION:Lepodvorska 3
END:VEVENT
BEGIN:VEVENT
DTSTART;TZID=Europe/Helsinki:20220531T093000
DTEND;TZID=Europe/Helsinki:20220531T170000
DTSTAMP:20260420T043117
CREATED:20220522T112216Z
LAST-MODIFIED:20220522T112216Z
UID:1265-1653989400-1654016400@ambasadorji-nasmeha.si
SUMMARY:OPN vrtec Žiri
DESCRIPTION:Živa in Nacho; Urška
URL:https://ambasadorji-nasmeha.si/dogodek/opn-vrtec-ziri-2/
END:VEVENT
BEGIN:VEVENT
DTSTART;TZID=Europe/Helsinki:20220531T083000
DTEND;TZID=Europe/Helsinki:20220531T093000
DTSTAMP:20260420T043117
CREATED:20220522T190753Z
LAST-MODIFIED:20220522T190753Z
UID:1267-1653985800-1653989400@ambasadorji-nasmeha.si
SUMMARY:OPN OŠ Savsko naselje
DESCRIPTION:Katja in As; Sonja\, Borut
URL:https://ambasadorji-nasmeha.si/dogodek/opn-os-savsko-naselje-3/
END:VEVENT
BEGIN:VEVENT
DTSTART;TZID=Europe/Helsinki:20220530T170000
DTEND;TZID=Europe/Helsinki:20220530T180000
DTSTAMP:20260420T043117
CREATED:20220518T083028Z
LAST-MODIFIED:20220607T194651Z
UID:1255-1653930000-1653933600@ambasadorji-nasmeha.si
SUMMARY:OPN Cirius Kamnik
DESCRIPTION:Zala in Jon; Urška\, Borut\, Sonja
URL:https://ambasadorji-nasmeha.si/dogodek/opn-cirius-kamnik-7/
END:VEVENT
BEGIN:VEVENT
DTSTART;TZID=Europe/Helsinki:20220527T170000
DTEND;TZID=Europe/Helsinki:20220527T180000
DTSTAMP:20260420T043117
CREATED:20220505T095144Z
LAST-MODIFIED:20220505T095144Z
UID:1214-1653670800-1653674400@ambasadorji-nasmeha.si
SUMMARY:OPN Knjižnica Jesenice
DESCRIPTION:Katja in As\, Urška
URL:https://ambasadorji-nasmeha.si/dogodek/opn-knjiznica-jesenice/
END:VEVENT
BEGIN:VEVENT
DTSTART;TZID=Europe/Helsinki:20220527T090000
DTEND;TZID=Europe/Helsinki:20220527T170000
DTSTAMP:20260420T043117
CREATED:20220521T084148Z
LAST-MODIFIED:20220521T084148Z
UID:1259-1653642000-1653670800@ambasadorji-nasmeha.si
SUMMARY:OPN vrtec Šentvid\, enota Mravljinček
DESCRIPTION:Kristina in Twix; Urška
URL:https://ambasadorji-nasmeha.si/dogodek/opn-vrtec-sentvid-enota-mravljincek/
END:VEVENT
BEGIN:VEVENT
DTSTART;TZID=Europe/Helsinki:20220526T110000
DTEND;TZID=Europe/Helsinki:20220526T130000
DTSTAMP:20260420T043117
CREATED:20220427T112308Z
LAST-MODIFIED:20220827T163854Z
UID:1100-1653562800-1653570000@ambasadorji-nasmeha.si
SUMMARY:OPN IGRAJ SE Z MANO
DESCRIPTION:Kongresni trg \nSimona in Bonnie\, Jasna in Cini\, Zala in Jon\, Darinka in Liza\, Zdenka in Kendall\, Maja in Diva\, Sonja\, Urška
URL:https://ambasadorji-nasmeha.si/dogodek/opn-igraj-se-z-mano/
END:VEVENT
BEGIN:VEVENT
DTSTART;TZID=Europe/Helsinki:20220525T143000
DTEND;TZID=Europe/Helsinki:20220525T163000
DTSTAMP:20260420T043117
CREATED:20220514T182454Z
LAST-MODIFIED:20220827T163915Z
UID:1246-1653489000-1653496200@ambasadorji-nasmeha.si
SUMMARY:OPN Pef
DESCRIPTION:Ana in Frida\, Alenka in Maya\, Darinka in Liza; Urška\, Irma\, Sonja
URL:https://ambasadorji-nasmeha.si/dogodek/opn-pef/
END:VEVENT
BEGIN:VEVENT
DTSTART;TZID=Europe/Helsinki:20220524T100000
DTEND;TZID=Europe/Helsinki:20220524T110000
DTSTAMP:20260420T043117
CREATED:20220428T080542Z
LAST-MODIFIED:20220428T080542Z
UID:1195-1653386400-1653390000@ambasadorji-nasmeha.si
SUMMARY:OPN OŠ Šentvid
DESCRIPTION:Ana in Frida; Urška
URL:https://ambasadorji-nasmeha.si/dogodek/opn-os-sentvid/
END:VEVENT
BEGIN:VEVENT
DTSTART;TZID=Europe/Helsinki:20220523T093000
DTEND;TZID=Europe/Helsinki:20220523T103000
DTSTAMP:20260420T043117
CREATED:20220518T082709Z
LAST-MODIFIED:20220518T082709Z
UID:1251-1653298200-1653301800@ambasadorji-nasmeha.si
SUMMARY:OPN Vrtec Andersen
DESCRIPTION:Darinka in Liza; Urška
URL:https://ambasadorji-nasmeha.si/dogodek/opn-vrtec-andersen-4/
END:VEVENT
BEGIN:VEVENT
DTSTART;TZID=Europe/Helsinki:20220520T160000
DTEND;TZID=Europe/Helsinki:20220520T183000
DTSTAMP:20260420T043117
CREATED:20220505T094957Z
LAST-MODIFIED:20220505T094957Z
UID:1211-1653062400-1653071400@ambasadorji-nasmeha.si
SUMMARY:OPN OŠ Maksa Pečarja - šolski sejem
DESCRIPTION:Alenka in Maya\, Darinka in Liza\, Katja in As\, Ana in Frida; KZI Urška
URL:https://ambasadorji-nasmeha.si/dogodek/opn-os-maksa-pecarja-solski-sejem/
END:VEVENT
BEGIN:VEVENT
DTSTART;TZID=Europe/Helsinki:20220520T093000
DTEND;TZID=Europe/Helsinki:20220520T103000
DTSTAMP:20260420T043117
CREATED:20220514T162924Z
LAST-MODIFIED:20220514T162924Z
UID:1244-1653039000-1653042600@ambasadorji-nasmeha.si
SUMMARY:OPN Vrtec Andersen
DESCRIPTION:Alenka in Maya; Urška
URL:https://ambasadorji-nasmeha.si/dogodek/opn-vrtec-andersen-3/
END:VEVENT
BEGIN:VEVENT
DTSTART;TZID=Europe/Helsinki:20220519T190000
DTEND;TZID=Europe/Helsinki:20220519T210000
DTSTAMP:20260420T043117
CREATED:20220427T114117Z
LAST-MODIFIED:20220427T114117Z
UID:1131-1652986800-1652994000@ambasadorji-nasmeha.si
SUMMARY:Redni društveni sestanek
DESCRIPTION:
URL:https://ambasadorji-nasmeha.si/dogodek/redni-drustveni-sestanek-19/
LOCATION:Lepodvorska 3
END:VEVENT
BEGIN:VEVENT
DTSTART;TZID=Europe/Helsinki:20220519T153000
DTEND;TZID=Europe/Helsinki:20220519T173000
DTSTAMP:20260420T043117
CREATED:20220428T102930Z
LAST-MODIFIED:20220428T102930Z
UID:1207-1652974200-1652981400@ambasadorji-nasmeha.si
SUMMARY:OPN vrtec Notranje Gorice - zaključni dogodek
DESCRIPTION:Ana in Frida\, Katja in As\, Alenka in Maya\, Simona in Bonnie\, Maja in Diva\, Kristina in Twix; Irena\, Sonja in Urška
URL:https://ambasadorji-nasmeha.si/dogodek/opn-vrtec-notranje-gorice-zakljucni-dogodek/
END:VEVENT
BEGIN:VEVENT
DTSTART;TZID=Europe/Helsinki:20220518T170000
DTEND;TZID=Europe/Helsinki:20220518T180000
DTSTAMP:20260420T043117
CREATED:20220518T082824Z
LAST-MODIFIED:20220518T082910Z
UID:1253-1652893200-1652896800@ambasadorji-nasmeha.si
SUMMARY:OPN OŠ Jela Janežiča
DESCRIPTION:Darinka in Liza; Urška\, Sonja
URL:https://ambasadorji-nasmeha.si/dogodek/opn-os-jela-janezica-4/
END:VEVENT
END:VCALENDAR