BEGIN:VCALENDAR
VERSION:2.0
PRODID:-//Ambasadorji nasmeha - ECPv6.9.1//NONSGML v1.0//EN
CALSCALE:GREGORIAN
METHOD:PUBLISH
X-WR-CALNAME:Ambasadorji nasmeha
X-ORIGINAL-URL:https://ambasadorji-nasmeha.si
X-WR-CALDESC:Events for Ambasadorji nasmeha
REFRESH-INTERVAL;VALUE=DURATION:PT1H
X-Robots-Tag:noindex
X-PUBLISHED-TTL:PT1H
BEGIN:VTIMEZONE
TZID:Europe/Helsinki
BEGIN:DAYLIGHT
TZOFFSETFROM:+0200
TZOFFSETTO:+0300
TZNAME:EEST
DTSTART:20220327T010000
END:DAYLIGHT
BEGIN:STANDARD
TZOFFSETFROM:+0300
TZOFFSETTO:+0200
TZNAME:EET
DTSTART:20221030T010000
END:STANDARD
END:VTIMEZONE
BEGIN:VEVENT
DTSTART;TZID=Europe/Helsinki:20220527T090000
DTEND;TZID=Europe/Helsinki:20220527T170000
DTSTAMP:20260420T020303
CREATED:20220521T084148Z
LAST-MODIFIED:20220521T084148Z
UID:1259-1653642000-1653670800@ambasadorji-nasmeha.si
SUMMARY:OPN vrtec Šentvid\, enota Mravljinček
DESCRIPTION:Kristina in Twix; Urška
URL:https://ambasadorji-nasmeha.si/dogodek/opn-vrtec-sentvid-enota-mravljincek/
END:VEVENT
BEGIN:VEVENT
DTSTART;TZID=Europe/Helsinki:20220526T110000
DTEND;TZID=Europe/Helsinki:20220526T130000
DTSTAMP:20260420T020303
CREATED:20220427T112308Z
LAST-MODIFIED:20220827T163854Z
UID:1100-1653562800-1653570000@ambasadorji-nasmeha.si
SUMMARY:OPN IGRAJ SE Z MANO
DESCRIPTION:Kongresni trg \nSimona in Bonnie\, Jasna in Cini\, Zala in Jon\, Darinka in Liza\, Zdenka in Kendall\, Maja in Diva\, Sonja\, Urška
URL:https://ambasadorji-nasmeha.si/dogodek/opn-igraj-se-z-mano/
END:VEVENT
BEGIN:VEVENT
DTSTART;TZID=Europe/Helsinki:20220525T143000
DTEND;TZID=Europe/Helsinki:20220525T163000
DTSTAMP:20260420T020303
CREATED:20220514T182454Z
LAST-MODIFIED:20220827T163915Z
UID:1246-1653489000-1653496200@ambasadorji-nasmeha.si
SUMMARY:OPN Pef
DESCRIPTION:Ana in Frida\, Alenka in Maya\, Darinka in Liza; Urška\, Irma\, Sonja
URL:https://ambasadorji-nasmeha.si/dogodek/opn-pef/
END:VEVENT
BEGIN:VEVENT
DTSTART;TZID=Europe/Helsinki:20220524T100000
DTEND;TZID=Europe/Helsinki:20220524T110000
DTSTAMP:20260420T020303
CREATED:20220428T080542Z
LAST-MODIFIED:20220428T080542Z
UID:1195-1653386400-1653390000@ambasadorji-nasmeha.si
SUMMARY:OPN OŠ Šentvid
DESCRIPTION:Ana in Frida; Urška
URL:https://ambasadorji-nasmeha.si/dogodek/opn-os-sentvid/
END:VEVENT
BEGIN:VEVENT
DTSTART;TZID=Europe/Helsinki:20220523T093000
DTEND;TZID=Europe/Helsinki:20220523T103000
DTSTAMP:20260420T020303
CREATED:20220518T082709Z
LAST-MODIFIED:20220518T082709Z
UID:1251-1653298200-1653301800@ambasadorji-nasmeha.si
SUMMARY:OPN Vrtec Andersen
DESCRIPTION:Darinka in Liza; Urška
URL:https://ambasadorji-nasmeha.si/dogodek/opn-vrtec-andersen-4/
END:VEVENT
BEGIN:VEVENT
DTSTART;TZID=Europe/Helsinki:20220520T160000
DTEND;TZID=Europe/Helsinki:20220520T183000
DTSTAMP:20260420T020303
CREATED:20220505T094957Z
LAST-MODIFIED:20220505T094957Z
UID:1211-1653062400-1653071400@ambasadorji-nasmeha.si
SUMMARY:OPN OŠ Maksa Pečarja - šolski sejem
DESCRIPTION:Alenka in Maya\, Darinka in Liza\, Katja in As\, Ana in Frida; KZI Urška
URL:https://ambasadorji-nasmeha.si/dogodek/opn-os-maksa-pecarja-solski-sejem/
END:VEVENT
BEGIN:VEVENT
DTSTART;TZID=Europe/Helsinki:20220520T093000
DTEND;TZID=Europe/Helsinki:20220520T103000
DTSTAMP:20260420T020303
CREATED:20220514T162924Z
LAST-MODIFIED:20220514T162924Z
UID:1244-1653039000-1653042600@ambasadorji-nasmeha.si
SUMMARY:OPN Vrtec Andersen
DESCRIPTION:Alenka in Maya; Urška
URL:https://ambasadorji-nasmeha.si/dogodek/opn-vrtec-andersen-3/
END:VEVENT
BEGIN:VEVENT
DTSTART;TZID=Europe/Helsinki:20220519T190000
DTEND;TZID=Europe/Helsinki:20220519T210000
DTSTAMP:20260420T020303
CREATED:20220427T114117Z
LAST-MODIFIED:20220427T114117Z
UID:1131-1652986800-1652994000@ambasadorji-nasmeha.si
SUMMARY:Redni društveni sestanek
DESCRIPTION:
URL:https://ambasadorji-nasmeha.si/dogodek/redni-drustveni-sestanek-19/
LOCATION:Lepodvorska 3
END:VEVENT
BEGIN:VEVENT
DTSTART;TZID=Europe/Helsinki:20220519T153000
DTEND;TZID=Europe/Helsinki:20220519T173000
DTSTAMP:20260420T020303
CREATED:20220428T102930Z
LAST-MODIFIED:20220428T102930Z
UID:1207-1652974200-1652981400@ambasadorji-nasmeha.si
SUMMARY:OPN vrtec Notranje Gorice - zaključni dogodek
DESCRIPTION:Ana in Frida\, Katja in As\, Alenka in Maya\, Simona in Bonnie\, Maja in Diva\, Kristina in Twix; Irena\, Sonja in Urška
URL:https://ambasadorji-nasmeha.si/dogodek/opn-vrtec-notranje-gorice-zakljucni-dogodek/
END:VEVENT
BEGIN:VEVENT
DTSTART;TZID=Europe/Helsinki:20220518T170000
DTEND;TZID=Europe/Helsinki:20220518T180000
DTSTAMP:20260420T020303
CREATED:20220518T082824Z
LAST-MODIFIED:20220518T082910Z
UID:1253-1652893200-1652896800@ambasadorji-nasmeha.si
SUMMARY:OPN OŠ Jela Janežiča
DESCRIPTION:Darinka in Liza; Urška\, Sonja
URL:https://ambasadorji-nasmeha.si/dogodek/opn-os-jela-janezica-4/
END:VEVENT
BEGIN:VEVENT
DTSTART;TZID=Europe/Helsinki:20220517T160000
DTEND;TZID=Europe/Helsinki:20220517T170000
DTSTAMP:20260420T020303
CREATED:20220428T102650Z
LAST-MODIFIED:20220428T102650Z
UID:1205-1652803200-1652806800@ambasadorji-nasmeha.si
SUMMARY:OPN vrtec Zelena jama
DESCRIPTION:Zala in Jon; Sonja\, Borut in Urška
URL:https://ambasadorji-nasmeha.si/dogodek/opn-vrtec-zelena-jama/
END:VEVENT
BEGIN:VEVENT
DTSTART;TZID=Europe/Helsinki:20220517T093000
DTEND;TZID=Europe/Helsinki:20220517T103000
DTSTAMP:20260420T020303
CREATED:20220428T102610Z
LAST-MODIFIED:20220428T102610Z
UID:1203-1652779800-1652783400@ambasadorji-nasmeha.si
SUMMARY:OPN vrtec Žiri
DESCRIPTION:Živa in Nacho; Sonja\, Irena in Urška (?)
URL:https://ambasadorji-nasmeha.si/dogodek/opn-vrtec-ziri/
END:VEVENT
BEGIN:VEVENT
DTSTART;TZID=Europe/Helsinki:20220516T170000
DTEND;TZID=Europe/Helsinki:20220516T190000
DTSTAMP:20260420T020303
CREATED:20220505T121032Z
LAST-MODIFIED:20220505T121032Z
UID:1216-1652720400-1652727600@ambasadorji-nasmeha.si
SUMMARY:OPN CIRISU Kamnik
DESCRIPTION:Katja in AS; Urška
URL:https://ambasadorji-nasmeha.si/dogodek/opn-cirisu-kamnik/
END:VEVENT
BEGIN:VEVENT
DTSTART;TZID=Europe/Helsinki:20220516T090000
DTEND;TZID=Europe/Helsinki:20220516T120000
DTSTAMP:20260420T020303
CREATED:20220427T121233Z
LAST-MODIFIED:20220427T121233Z
UID:1145-1652691600-1652702400@ambasadorji-nasmeha.si
SUMMARY:OPN Dan preventive OŠ Majde Vrhovnik
DESCRIPTION:
URL:https://ambasadorji-nasmeha.si/dogodek/opn-dan-preventive-os-majde-vrhovnik/
END:VEVENT
BEGIN:VEVENT
DTSTART;TZID=Europe/Helsinki:20220513T093000
DTEND;TZID=Europe/Helsinki:20220513T103000
DTSTAMP:20260420T020303
CREATED:20220427T195825Z
LAST-MODIFIED:20220427T195825Z
UID:1156-1652434200-1652437800@ambasadorji-nasmeha.si
SUMMARY:OPN vrtec Andersen
DESCRIPTION:Lidija in Suri; Urška
URL:https://ambasadorji-nasmeha.si/dogodek/opn-vrtec-andersen-2/
END:VEVENT
BEGIN:VEVENT
DTSTART;TZID=Europe/Helsinki:20220511T100000
DTEND;TZID=Europe/Helsinki:20220511T110000
DTSTAMP:20260420T020303
CREATED:20220428T102400Z
LAST-MODIFIED:20220428T102400Z
UID:1201-1652263200-1652266800@ambasadorji-nasmeha.si
SUMMARY:OPN OŠ Preserje/Brezovica
DESCRIPTION:Simona in Bonnie; Sonja\, Irena
URL:https://ambasadorji-nasmeha.si/dogodek/opn-os-preserje-brezovica-2/
END:VEVENT
BEGIN:VEVENT
DTSTART;TZID=Europe/Helsinki:20220511T093000
DTEND;TZID=Europe/Helsinki:20220511T103000
DTSTAMP:20260420T020303
CREATED:20220427T195751Z
LAST-MODIFIED:20220427T195751Z
UID:1154-1652261400-1652265000@ambasadorji-nasmeha.si
SUMMARY:OPN vrtec Andersen
DESCRIPTION:Ana in Frida; Urška
URL:https://ambasadorji-nasmeha.si/dogodek/opn-vrtec-andersen/
END:VEVENT
BEGIN:VEVENT
DTSTART;TZID=Europe/Helsinki:20220510T100000
DTEND;TZID=Europe/Helsinki:20220510T110000
DTSTAMP:20260420T020303
CREATED:20220427T122225Z
LAST-MODIFIED:20220427T122225Z
UID:1148-1652176800-1652180400@ambasadorji-nasmeha.si
SUMMARY:OPN DEOS Notranje Gorice
DESCRIPTION:Lidija in Suri; Sonja in Irena
URL:https://ambasadorji-nasmeha.si/dogodek/opn-deos-notranje-gorice/
END:VEVENT
BEGIN:VEVENT
DTSTART;TZID=Europe/Helsinki:20220509T090000
DTEND;TZID=Europe/Helsinki:20220509T113000
DTSTAMP:20260420T020303
CREATED:20220427T195628Z
LAST-MODIFIED:20220427T195628Z
UID:1150-1652086800-1652095800@ambasadorji-nasmeha.si
SUMMARY:OPN OŠ Preserje/Radomlje
DESCRIPTION:Kristina in Twix; Urška
URL:https://ambasadorji-nasmeha.si/dogodek/opn-os-preserje-radomlje/
END:VEVENT
BEGIN:VEVENT
DTSTART;TZID=Europe/Helsinki:20220506T080000
DTEND;TZID=Europe/Helsinki:20220506T090000
DTSTAMP:20260420T020303
CREATED:20220427T111836Z
LAST-MODIFIED:20220427T111836Z
UID:1090-1651824000-1651827600@ambasadorji-nasmeha.si
SUMMARY:OPN OŠ Mirna
DESCRIPTION:Zala in Jon; Urška
URL:https://ambasadorji-nasmeha.si/dogodek/opn-os-mirna/
END:VEVENT
BEGIN:VEVENT
DTSTART;TZID=Europe/Helsinki:20220505T193000
DTEND;TZID=Europe/Helsinki:20220505T210000
DTSTAMP:20260420T020303
CREATED:20220427T112802Z
LAST-MODIFIED:20220428T103117Z
UID:1109-1651779000-1651784400@ambasadorji-nasmeha.si
SUMMARY:Redni društveni sestanek
DESCRIPTION:
URL:https://ambasadorji-nasmeha.si/dogodek/redni-drustveni-sestanek-13/
LOCATION:Lepodvorska 3
END:VEVENT
BEGIN:VEVENT
DTSTART;TZID=Europe/Helsinki:20220505T183000
DTEND;TZID=Europe/Helsinki:20220505T193000
DTSTAMP:20260420T020303
CREATED:20220427T112838Z
LAST-MODIFIED:20220427T112838Z
UID:1111-1651775400-1651779000@ambasadorji-nasmeha.si
SUMMARY:UO sestanek
DESCRIPTION:
URL:https://ambasadorji-nasmeha.si/dogodek/uo-sestanek/
LOCATION:Lepodvorska 3
END:VEVENT
BEGIN:VEVENT
DTSTART;TZID=Europe/Helsinki:20220505T170000
DTEND;TZID=Europe/Helsinki:20220505T180000
DTSTAMP:20260420T020303
CREATED:20220427T111917Z
LAST-MODIFIED:20220505T095101Z
UID:1092-1651770000-1651773600@ambasadorji-nasmeha.si
SUMMARY:OPN knjižnica Trata
DESCRIPTION:Lidija in Suri; Irma in Urška
URL:https://ambasadorji-nasmeha.si/dogodek/opn-knjiznica-trata/
END:VEVENT
BEGIN:VEVENT
DTSTART;TZID=Europe/Helsinki:20220504T170000
DTEND;TZID=Europe/Helsinki:20220504T180000
DTSTAMP:20260420T020303
CREATED:20220427T195854Z
LAST-MODIFIED:20220428T094733Z
UID:1158-1651683600-1651687200@ambasadorji-nasmeha.si
SUMMARY:OPN OŠ Jela Janežiča
DESCRIPTION:Katja in As; Urška in Irma
URL:https://ambasadorji-nasmeha.si/dogodek/opn-os-jela-janezica-3/
END:VEVENT
BEGIN:VEVENT
DTSTART;TZID=Europe/Helsinki:20220423T080000
DTEND;TZID=Europe/Helsinki:20220423T100000
DTSTAMP:20260420T020303
CREATED:20220406T084446Z
LAST-MODIFIED:20220427T112408Z
UID:1064-1650700800-1650708000@ambasadorji-nasmeha.si
SUMMARY:Redno letno preverjanje
DESCRIPTION:Primož in Ola + izpit\, Andreja in Ari\, Manca in Gotta\, Suzana in Kaj
URL:https://ambasadorji-nasmeha.si/dogodek/redno-letno-preverjanje/
LOCATION:Lepodvorska 3
END:VEVENT
BEGIN:VEVENT
DTSTART;TZID=Europe/Helsinki:20220422T170000
DTEND;TZID=Europe/Helsinki:20220422T180000
DTSTAMP:20260420T020303
CREATED:20220427T111704Z
LAST-MODIFIED:20220427T111704Z
UID:1088-1650646800-1650650400@ambasadorji-nasmeha.si
SUMMARY:OPN knjižnica Poljane
DESCRIPTION:Darinka in Liza; Irma in Urška
URL:https://ambasadorji-nasmeha.si/dogodek/opn-knjiznica-poljane-2/
END:VEVENT
BEGIN:VEVENT
DTSTART;TZID=Europe/Helsinki:20220421T190000
DTEND;TZID=Europe/Helsinki:20220421T210000
DTSTAMP:20260420T020303
CREATED:20220427T110609Z
LAST-MODIFIED:20220427T110609Z
UID:1072-1650567600-1650574800@ambasadorji-nasmeha.si
SUMMARY:Redni društveni sestanek
DESCRIPTION:
URL:https://ambasadorji-nasmeha.si/dogodek/redni-drustveni-sestanek-12/
LOCATION:Lepodvorska 3
END:VEVENT
BEGIN:VEVENT
DTSTART;TZID=Europe/Helsinki:20220420T170000
DTEND;TZID=Europe/Helsinki:20220420T180000
DTSTAMP:20260420T020303
CREATED:20220427T111554Z
LAST-MODIFIED:20220427T111554Z
UID:1086-1650474000-1650477600@ambasadorji-nasmeha.si
SUMMARY:OPN OŠ Jela Janežiča
DESCRIPTION:Darinka in Liza; Irma in Urška
URL:https://ambasadorji-nasmeha.si/dogodek/opn-os-jela-janezica/
END:VEVENT
BEGIN:VEVENT
DTSTART;TZID=Europe/Helsinki:20220419T100000
DTEND;TZID=Europe/Helsinki:20220419T110000
DTSTAMP:20260420T020303
CREATED:20220427T201615Z
LAST-MODIFIED:20220427T201615Z
UID:1181-1650362400-1650366000@ambasadorji-nasmeha.si
SUMMARY:OPN DEOS Notranje Gorice
DESCRIPTION:Simona in Bonnie; Irena in Sonja
URL:https://ambasadorji-nasmeha.si/dogodek/opn-deos-notranje-gorice-4/
END:VEVENT
BEGIN:VEVENT
DTSTART;TZID=Europe/Helsinki:20220414T170000
DTEND;TZID=Europe/Helsinki:20220414T180000
DTSTAMP:20260420T020303
CREATED:20220427T113909Z
LAST-MODIFIED:20220427T113909Z
UID:1129-1649955600-1649959200@ambasadorji-nasmeha.si
SUMMARY:OPN knjižnica Trata
DESCRIPTION:Darinka in Liza; Sonja\, Borut in Urška
URL:https://ambasadorji-nasmeha.si/dogodek/opn-knjiznica-trata-2/
END:VEVENT
END:VCALENDAR