BEGIN:VCALENDAR
VERSION:2.0
PRODID:-//Ambasadorji nasmeha - ECPv6.9.1//NONSGML v1.0//EN
CALSCALE:GREGORIAN
METHOD:PUBLISH
X-ORIGINAL-URL:https://ambasadorji-nasmeha.si
X-WR-CALDESC:Events for Ambasadorji nasmeha
REFRESH-INTERVAL;VALUE=DURATION:PT1H
X-Robots-Tag:noindex
X-PUBLISHED-TTL:PT1H
BEGIN:VTIMEZONE
TZID:Europe/Helsinki
BEGIN:DAYLIGHT
TZOFFSETFROM:+0200
TZOFFSETTO:+0300
TZNAME:EEST
DTSTART:20180325T010000
END:DAYLIGHT
BEGIN:STANDARD
TZOFFSETFROM:+0300
TZOFFSETTO:+0200
TZNAME:EET
DTSTART:20181028T010000
END:STANDARD
BEGIN:DAYLIGHT
TZOFFSETFROM:+0200
TZOFFSETTO:+0300
TZNAME:EEST
DTSTART:20190331T010000
END:DAYLIGHT
BEGIN:STANDARD
TZOFFSETFROM:+0300
TZOFFSETTO:+0200
TZNAME:EET
DTSTART:20191027T010000
END:STANDARD
BEGIN:DAYLIGHT
TZOFFSETFROM:+0200
TZOFFSETTO:+0300
TZNAME:EEST
DTSTART:20200329T010000
END:DAYLIGHT
BEGIN:STANDARD
TZOFFSETFROM:+0300
TZOFFSETTO:+0200
TZNAME:EET
DTSTART:20201025T010000
END:STANDARD
BEGIN:DAYLIGHT
TZOFFSETFROM:+0200
TZOFFSETTO:+0300
TZNAME:EEST
DTSTART:20210328T010000
END:DAYLIGHT
BEGIN:STANDARD
TZOFFSETFROM:+0300
TZOFFSETTO:+0200
TZNAME:EET
DTSTART:20211031T010000
END:STANDARD
BEGIN:DAYLIGHT
TZOFFSETFROM:+0200
TZOFFSETTO:+0300
TZNAME:EEST
DTSTART:20220327T010000
END:DAYLIGHT
BEGIN:STANDARD
TZOFFSETFROM:+0300
TZOFFSETTO:+0200
TZNAME:EET
DTSTART:20221030T010000
END:STANDARD
END:VTIMEZONE
BEGIN:VEVENT
DTSTART;TZID=Europe/Helsinki:20220326T100000
DTEND;TZID=Europe/Helsinki:20220326T133000
DTSTAMP:20260420T001604
CREATED:20220427T113745Z
LAST-MODIFIED:20220427T113745Z
UID:1126-1648288800-1648301400@ambasadorji-nasmeha.si
SUMMARY:Delavnica Delo s konji
DESCRIPTION:Predava Nataša Debeljak
URL:https://ambasadorji-nasmeha.si/dogodek/delavnica-delo-s-konji/
LOCATION:PGD Trnovo
END:VEVENT
BEGIN:VEVENT
DTSTART;TZID=Europe/Helsinki:20220324T180000
DTEND;TZID=Europe/Helsinki:20220324T200000
DTSTAMP:20260420T001604
CREATED:20220427T112434Z
LAST-MODIFIED:20220427T112434Z
UID:1103-1648144800-1648152000@ambasadorji-nasmeha.si
SUMMARY:ZBOR ČLANOV
DESCRIPTION:
URL:https://ambasadorji-nasmeha.si/dogodek/zbor-clanov/
END:VEVENT
BEGIN:VEVENT
DTSTART;TZID=Europe/Helsinki:20220322T080000
DTEND;TZID=Europe/Helsinki:20220322T090000
DTSTAMP:20260420T001604
CREATED:20220427T120907Z
LAST-MODIFIED:20220427T120907Z
UID:1140-1647936000-1647939600@ambasadorji-nasmeha.si
SUMMARY:OPN OŠ Savsko naselje
DESCRIPTION:Lidija in Suri; Borut
URL:https://ambasadorji-nasmeha.si/dogodek/opn-os-savsko-naselje/
END:VEVENT
BEGIN:VEVENT
DTSTART;TZID=Europe/Helsinki:20220318T133000
DTEND;TZID=Europe/Helsinki:20220318T143000
DTSTAMP:20260420T001604
CREATED:20220428T103038Z
LAST-MODIFIED:20220428T103038Z
UID:1209-1647610200-1647613800@ambasadorji-nasmeha.si
SUMMARY:RLP OŠ Majde Vrhovnik
DESCRIPTION:Sonja in Ari; Borut
URL:https://ambasadorji-nasmeha.si/dogodek/rlp-os-majde-vrhovnik/
END:VEVENT
BEGIN:VEVENT
DTSTART;TZID=Europe/Helsinki:20220316T170000
DTEND;TZID=Europe/Helsinki:20220316T180000
DTSTAMP:20260420T001604
CREATED:20220427T112135Z
LAST-MODIFIED:20220427T201033Z
UID:1098-1647450000-1647453600@ambasadorji-nasmeha.si
SUMMARY:OPN OŠ Jela Janežiča
DESCRIPTION:Lidija in Suri; Sonja in Než
URL:https://ambasadorji-nasmeha.si/dogodek/opn-os-jela-janezica-2/
END:VEVENT
BEGIN:VEVENT
DTSTART;TZID=Europe/Helsinki:20220316T100000
DTEND;TZID=Europe/Helsinki:20220316T110000
DTSTAMP:20260420T001604
CREATED:20220427T200943Z
LAST-MODIFIED:20220427T200943Z
UID:1175-1647424800-1647428400@ambasadorji-nasmeha.si
SUMMARY:OPN vrtec Mehurčki RO
DESCRIPTION:Živa in Nacho; Sonja in Irena
URL:https://ambasadorji-nasmeha.si/dogodek/opn-vrtec-mehurcki-ro/
END:VEVENT
BEGIN:VEVENT
DTSTART;TZID=Europe/Helsinki:20220314T090000
DTEND;TZID=Europe/Helsinki:20220314T100000
DTSTAMP:20260420T001604
CREATED:20220427T200848Z
LAST-MODIFIED:20220427T200848Z
UID:1173-1647248400-1647252000@ambasadorji-nasmeha.si
SUMMARY:OPN OŠ Notranje gorice
DESCRIPTION:Živa in Nacho; Sonja in Irena
URL:https://ambasadorji-nasmeha.si/dogodek/opn-os-notranje-gorice/
END:VEVENT
BEGIN:VEVENT
DTSTART;TZID=Europe/Helsinki:20220311T080000
DTEND;TZID=Europe/Helsinki:20220311T083000
DTSTAMP:20260420T001604
CREATED:20220427T202022Z
LAST-MODIFIED:20220427T202022Z
UID:1191-1646985600-1646987400@ambasadorji-nasmeha.si
SUMMARY:OPN Cirius Kamnik
DESCRIPTION:Simona in Bonnie; Irma
URL:https://ambasadorji-nasmeha.si/dogodek/opn-cirius-kamnik-5/
END:VEVENT
BEGIN:VEVENT
DTSTART;TZID=Europe/Helsinki:20220310T190000
DTEND;TZID=Europe/Helsinki:20220310T210000
DTSTAMP:20260420T001604
CREATED:20220427T113640Z
LAST-MODIFIED:20220427T113640Z
UID:1124-1646938800-1646946000@ambasadorji-nasmeha.si
SUMMARY:Redni društveni sestanek
DESCRIPTION:
URL:https://ambasadorji-nasmeha.si/dogodek/redni-drustveni-sestanek-18/
LOCATION:Lepodvorska 3
END:VEVENT
BEGIN:VEVENT
DTSTART;TZID=Europe/Helsinki:20220308T170000
DTEND;TZID=Europe/Helsinki:20220308T180000
DTSTAMP:20260420T001604
CREATED:20220427T200801Z
LAST-MODIFIED:20220427T200801Z
UID:1171-1646758800-1646762400@ambasadorji-nasmeha.si
SUMMARY:OPN CIRIUS Kamnik
DESCRIPTION:Lidija in Suri; Sonja
URL:https://ambasadorji-nasmeha.si/dogodek/opn-cirius-kamnik/
END:VEVENT
BEGIN:VEVENT
DTSTART;TZID=Europe/Helsinki:20220308T100000
DTEND;TZID=Europe/Helsinki:20220308T110000
DTSTAMP:20260420T001604
CREATED:20220427T200426Z
LAST-MODIFIED:20220427T200426Z
UID:1168-1646733600-1646737200@ambasadorji-nasmeha.si
SUMMARY:OPN DEOS Notranje Gorice
DESCRIPTION:Živa in Nacho; Irena in Sonja
URL:https://ambasadorji-nasmeha.si/dogodek/opn-deos-notranje-gorice-3/
END:VEVENT
BEGIN:VEVENT
DTSTART;TZID=Europe/Helsinki:20220305T100000
DTEND;TZID=Europe/Helsinki:20220305T170000
DTSTAMP:20260420T001604
CREATED:20220427T110713Z
LAST-MODIFIED:20220427T110802Z
UID:1074-1646474400-1646499600@ambasadorji-nasmeha.si
SUMMARY:Izpiti + RLP
DESCRIPTION:Ana Jenko izpit \nRLP: Ana in Arya\, Kristina in Kala\, Ema in Nelly
URL:https://ambasadorji-nasmeha.si/dogodek/izpiti-rlp/
END:VEVENT
BEGIN:VEVENT
DTSTART;TZID=Europe/Helsinki:20220303T080000
DTEND;TZID=Europe/Helsinki:20220303T083000
DTSTAMP:20260420T001604
CREATED:20220427T201932Z
LAST-MODIFIED:20220427T201932Z
UID:1189-1646294400-1646296200@ambasadorji-nasmeha.si
SUMMARY:OPN Cirius Kamnik
DESCRIPTION:Živa in Nacho; Irma
URL:https://ambasadorji-nasmeha.si/dogodek/opn-cirius-kamnik-4/
END:VEVENT
BEGIN:VEVENT
DTSTART;TZID=Europe/Helsinki:20220224T190000
DTEND;TZID=Europe/Helsinki:20220224T210000
DTSTAMP:20260420T001604
CREATED:20220427T113532Z
LAST-MODIFIED:20220427T113532Z
UID:1122-1645729200-1645736400@ambasadorji-nasmeha.si
SUMMARY:Redni društveni sestanek
DESCRIPTION:Zimske počitnice osrednjeslovenska
URL:https://ambasadorji-nasmeha.si/dogodek/redni-drustveni-sestanek-17/
LOCATION:Lepodvorska 3
END:VEVENT
BEGIN:VEVENT
DTSTART;TZID=Europe/Helsinki:20220211T080000
DTEND;TZID=Europe/Helsinki:20220211T083000
DTSTAMP:20260420T001604
CREATED:20220427T201853Z
LAST-MODIFIED:20220427T201853Z
UID:1187-1644566400-1644568200@ambasadorji-nasmeha.si
SUMMARY:OPN Cirius Kamnik
DESCRIPTION:Lidija in Suri; Irma
URL:https://ambasadorji-nasmeha.si/dogodek/opn-cirius-kamnik-3/
END:VEVENT
BEGIN:VEVENT
DTSTART;TZID=Europe/Helsinki:20220210T190000
DTEND;TZID=Europe/Helsinki:20220210T210000
DTSTAMP:20260420T001604
CREATED:20220427T113143Z
LAST-MODIFIED:20220427T113420Z
UID:1119-1644519600-1644526800@ambasadorji-nasmeha.si
SUMMARY:Redni društveni sestanek
DESCRIPTION:
URL:https://ambasadorji-nasmeha.si/dogodek/redni-drustveni-sestanek-16/
LOCATION:Lepodvorska 3
END:VEVENT
BEGIN:VEVENT
DTSTART;TZID=Europe/Helsinki:20220203T180000
DTEND;TZID=Europe/Helsinki:20220203T190000
DTSTAMP:20260420T001604
CREATED:20220427T113123Z
LAST-MODIFIED:20220427T113219Z
UID:1117-1643911200-1643914800@ambasadorji-nasmeha.si
SUMMARY:UO + KZI sestanek
DESCRIPTION:
URL:https://ambasadorji-nasmeha.si/dogodek/uo-sestanek-2/
LOCATION:Lepodvorska 3
END:VEVENT
BEGIN:VEVENT
DTSTART;TZID=Europe/Helsinki:20220127T190000
DTEND;TZID=Europe/Helsinki:20220127T210000
DTSTAMP:20260420T001604
CREATED:20220427T113050Z
LAST-MODIFIED:20220427T113050Z
UID:1115-1643310000-1643317200@ambasadorji-nasmeha.si
SUMMARY:Redni društveni sestanek
DESCRIPTION:
URL:https://ambasadorji-nasmeha.si/dogodek/redni-drustveni-sestanek-15/
LOCATION:Lepodvorska 3
END:VEVENT
BEGIN:VEVENT
DTSTART;TZID=Europe/Helsinki:20220127T100000
DTEND;TZID=Europe/Helsinki:20220127T110000
DTSTAMP:20260420T001604
CREATED:20220427T200314Z
LAST-MODIFIED:20220427T200314Z
UID:1166-1643277600-1643281200@ambasadorji-nasmeha.si
SUMMARY:OPN vrtec Kamnik RO
DESCRIPTION:Marija in Fiona; Irena\, Sonja in Irma
URL:https://ambasadorji-nasmeha.si/dogodek/opn-vrtec-kamnik-ro/
END:VEVENT
BEGIN:VEVENT
DTSTART;TZID=Europe/Helsinki:20220127T080000
DTEND;TZID=Europe/Helsinki:20220127T090000
DTSTAMP:20260420T001604
CREATED:20220427T200206Z
LAST-MODIFIED:20220427T200501Z
UID:1164-1643270400-1643274000@ambasadorji-nasmeha.si
SUMMARY:OPN OŠ Preserje/Radomlje
DESCRIPTION:Kristina in Twix; Sonja
URL:https://ambasadorji-nasmeha.si/dogodek/opn-os-preserje-radomlje-2/
END:VEVENT
BEGIN:VEVENT
DTSTART;TZID=Europe/Helsinki:20220125T090000
DTEND;TZID=Europe/Helsinki:20220125T100000
DTSTAMP:20260420T001604
CREATED:20220427T200119Z
LAST-MODIFIED:20220427T200119Z
UID:1162-1643101200-1643104800@ambasadorji-nasmeha.si
SUMMARY:OPN OŠ Preserje (Brezovica)
DESCRIPTION:Marija in Fiona; Irena in Sonja
URL:https://ambasadorji-nasmeha.si/dogodek/opn-os-preserje-brezovica/
END:VEVENT
BEGIN:VEVENT
DTSTART;TZID=Europe/Helsinki:20220121T080000
DTEND;TZID=Europe/Helsinki:20220121T083000
DTSTAMP:20260420T001604
CREATED:20220427T201823Z
LAST-MODIFIED:20220427T201823Z
UID:1185-1642752000-1642753800@ambasadorji-nasmeha.si
SUMMARY:OPN Cirius Kamnik
DESCRIPTION:Marija in Fiona; Irma
URL:https://ambasadorji-nasmeha.si/dogodek/opn-cirius-kamnik-2/
END:VEVENT
BEGIN:VEVENT
DTSTART;TZID=Europe/Helsinki:20220113T190000
DTEND;TZID=Europe/Helsinki:20220113T210000
DTSTAMP:20260420T001604
CREATED:20220427T113017Z
LAST-MODIFIED:20220427T113017Z
UID:1113-1642100400-1642107600@ambasadorji-nasmeha.si
SUMMARY:Redni društveni sestanek
DESCRIPTION:
URL:https://ambasadorji-nasmeha.si/dogodek/redni-drustveni-sestanek-14/
LOCATION:Lepodvorska 3
END:VEVENT
BEGIN:VEVENT
DTSTART;TZID=Europe/Helsinki:20220111T100000
DTEND;TZID=Europe/Helsinki:20220111T110000
DTSTAMP:20260420T001604
CREATED:20220427T200033Z
LAST-MODIFIED:20220427T200033Z
UID:1160-1641895200-1641898800@ambasadorji-nasmeha.si
SUMMARY:OPN DEOS Notranje Gorice
DESCRIPTION:Marija in Fiona; Sonja in Irena
URL:https://ambasadorji-nasmeha.si/dogodek/opn-deos-notranje-gorice-2/
END:VEVENT
BEGIN:VEVENT
DTSTART;TZID=Europe/Helsinki:20190124T190000
DTEND;TZID=Europe/Helsinki:20190124T210000
DTSTAMP:20260420T001604
CREATED:20180922T195332Z
LAST-MODIFIED:20180922T195332Z
UID:887-1548356400-1548363600@ambasadorji-nasmeha.si
SUMMARY:Redni društveni sestanek
DESCRIPTION:DCA\, Puhova 6\, LJ
URL:https://ambasadorji-nasmeha.si/dogodek/redni-drustveni-sestanek-10/
END:VEVENT
BEGIN:VEVENT
DTSTART;TZID=Europe/Helsinki:20190110T190000
DTEND;TZID=Europe/Helsinki:20190110T210000
DTSTAMP:20260420T001604
CREATED:20180922T195226Z
LAST-MODIFIED:20180922T195226Z
UID:885-1547146800-1547154000@ambasadorji-nasmeha.si
SUMMARY:Redni društveni sestanek
DESCRIPTION:DCA\, Puhova 6\, LJ
URL:https://ambasadorji-nasmeha.si/dogodek/redni-drustveni-sestanek-9/
END:VEVENT
BEGIN:VEVENT
DTSTART;TZID=Europe/Helsinki:20181213T190000
DTEND;TZID=Europe/Helsinki:20181213T210000
DTSTAMP:20260420T001604
CREATED:20180922T195122Z
LAST-MODIFIED:20180922T195122Z
UID:883-1544727600-1544734800@ambasadorji-nasmeha.si
SUMMARY:Redni društveni sestanek
DESCRIPTION:DCA\, Puhova 6\, LJ
URL:https://ambasadorji-nasmeha.si/dogodek/redni-drustveni-sestanek-8/
END:VEVENT
BEGIN:VEVENT
DTSTART;TZID=Europe/Helsinki:20181208T090000
DTEND;TZID=Europe/Helsinki:20181208T170000
DTSTAMP:20260420T001604
CREATED:20181101T152736Z
LAST-MODIFIED:20181101T152741Z
UID:915-1544259600-1544288400@ambasadorji-nasmeha.si
SUMMARY:Izobraževanje za nove delovne pare - teoretični in delni praktični izpiti
DESCRIPTION:
URL:https://ambasadorji-nasmeha.si/dogodek/izobrazevanje-za-nove-delovne-pare-teoreticni-in-delni-prakticni-izpiti/
END:VEVENT
BEGIN:VEVENT
DTSTART;TZID=Europe/Helsinki:20181201T090000
DTEND;TZID=Europe/Helsinki:20181201T140000
DTSTAMP:20260420T001604
CREATED:20181101T152629Z
LAST-MODIFIED:20181101T152633Z
UID:913-1543654800-1543672800@ambasadorji-nasmeha.si
SUMMARY:Izobraževanje za nove delovne pare - tečaj 4.
DESCRIPTION:
URL:https://ambasadorji-nasmeha.si/dogodek/izobrazevanje-za-nove-delovne-pare-tecaj-4/
END:VEVENT
BEGIN:VEVENT
DTSTART;TZID=Europe/Helsinki:20181129T190000
DTEND;TZID=Europe/Helsinki:20181129T210000
DTSTAMP:20260420T001604
CREATED:20180922T194955Z
LAST-MODIFIED:20180922T194955Z
UID:881-1543518000-1543525200@ambasadorji-nasmeha.si
SUMMARY:Redni društveni sestanek
DESCRIPTION:DCA\, Puhova 6\, LJ
URL:https://ambasadorji-nasmeha.si/dogodek/redni-drustveni-sestanek-7/
END:VEVENT
END:VCALENDAR