BEGIN:VCALENDAR
VERSION:2.0
PRODID:-//Ambasadorji nasmeha - ECPv6.9.1//NONSGML v1.0//EN
CALSCALE:GREGORIAN
METHOD:PUBLISH
X-WR-CALNAME:Ambasadorji nasmeha
X-ORIGINAL-URL:https://ambasadorji-nasmeha.si
X-WR-CALDESC:Events for Ambasadorji nasmeha
REFRESH-INTERVAL;VALUE=DURATION:PT1H
X-Robots-Tag:noindex
X-PUBLISHED-TTL:PT1H
BEGIN:VTIMEZONE
TZID:Europe/Helsinki
BEGIN:DAYLIGHT
TZOFFSETFROM:+0200
TZOFFSETTO:+0300
TZNAME:EEST
DTSTART:20180325T010000
END:DAYLIGHT
BEGIN:STANDARD
TZOFFSETFROM:+0300
TZOFFSETTO:+0200
TZNAME:EET
DTSTART:20181028T010000
END:STANDARD
END:VTIMEZONE
BEGIN:VEVENT
DTSTART;TZID=Europe/Helsinki:20181124T090000
DTEND;TZID=Europe/Helsinki:20181124T140000
DTSTAMP:20260419T224310
CREATED:20181101T152537Z
LAST-MODIFIED:20181101T152542Z
UID:911-1543050000-1543068000@ambasadorji-nasmeha.si
SUMMARY:Izobraževanje za nove delovne pare - tečaj 3.
DESCRIPTION:
URL:https://ambasadorji-nasmeha.si/dogodek/izobrazevanje-za-nove-delovne-pare-tecaj-3/
END:VEVENT
BEGIN:VEVENT
DTSTART;TZID=Europe/Helsinki:20181118T090000
DTEND;TZID=Europe/Helsinki:20181118T170000
DTSTAMP:20260419T224310
CREATED:20181101T153035Z
LAST-MODIFIED:20181101T153041Z
UID:921-1542531600-1542560400@ambasadorji-nasmeha.si
SUMMARY:Izobraževanje za nove delovne pare - seminar
DESCRIPTION:
URL:https://ambasadorji-nasmeha.si/dogodek/izobrazevanje-za-nove-delovne-pare-seminar-3/
END:VEVENT
BEGIN:VEVENT
DTSTART;TZID=Europe/Helsinki:20181117T090000
DTEND;TZID=Europe/Helsinki:20181117T180000
DTSTAMP:20260419T224310
CREATED:20181101T152904Z
LAST-MODIFIED:20181101T152909Z
UID:919-1542445200-1542477600@ambasadorji-nasmeha.si
SUMMARY:Izobraževanje za nove delovne pare - seminar
DESCRIPTION:
URL:https://ambasadorji-nasmeha.si/dogodek/izobrazevanje-za-nove-delovne-pare-seminar-2/
END:VEVENT
BEGIN:VEVENT
DTSTART;TZID=Europe/Helsinki:20181116T170000
DTEND;TZID=Europe/Helsinki:20181116T203000
DTSTAMP:20260419T224310
CREATED:20181101T152832Z
LAST-MODIFIED:20181101T152837Z
UID:917-1542387600-1542400200@ambasadorji-nasmeha.si
SUMMARY:Izobraževanje za nove delovne pare - seminar
DESCRIPTION:
URL:https://ambasadorji-nasmeha.si/dogodek/izobrazevanje-za-nove-delovne-pare-seminar/
END:VEVENT
BEGIN:VEVENT
DTSTART;TZID=Europe/Helsinki:20181115T190000
DTEND;TZID=Europe/Helsinki:20181115T210000
DTSTAMP:20260419T224310
CREATED:20180922T194908Z
LAST-MODIFIED:20180922T194908Z
UID:879-1542308400-1542315600@ambasadorji-nasmeha.si
SUMMARY:Redni društveni sestanek
DESCRIPTION:DCA\, Puhova 6\, LJ
URL:https://ambasadorji-nasmeha.si/dogodek/redni-drustveni-sestanek-6/
END:VEVENT
BEGIN:VEVENT
DTSTART;TZID=Europe/Helsinki:20181115T190000
DTEND;TZID=Europe/Helsinki:20181115T193000
DTSTAMP:20260419T224310
CREATED:20180923T153834Z
LAST-MODIFIED:20180923T153834Z
UID:893-1542308400-1542310200@ambasadorji-nasmeha.si
SUMMARY:Interno izobraževanje
DESCRIPTION:Predstavitev dela para Suzana Anžur in Kaj
URL:https://ambasadorji-nasmeha.si/dogodek/interno-izobrazevanje/
END:VEVENT
BEGIN:VEVENT
DTSTART;TZID=Europe/Helsinki:20181110T090000
DTEND;TZID=Europe/Helsinki:20181110T140000
DTSTAMP:20260419T224310
CREATED:20181101T152301Z
LAST-MODIFIED:20181101T152306Z
UID:909-1541840400-1541858400@ambasadorji-nasmeha.si
SUMMARY:Izobraževanje za nove delovne pare - tečaj 2.
DESCRIPTION:
URL:https://ambasadorji-nasmeha.si/dogodek/izobrazevanje-za-nove-delovne-pare-tecaj-2/
END:VEVENT
BEGIN:VEVENT
DTSTART;TZID=Europe/Helsinki:20181103T090000
DTEND;TZID=Europe/Helsinki:20181103T140000
DTSTAMP:20260419T224310
CREATED:20181101T152207Z
LAST-MODIFIED:20181101T152216Z
UID:907-1541235600-1541253600@ambasadorji-nasmeha.si
SUMMARY:Izobraževanje za nove delovne pare - tečaj 1.
DESCRIPTION:
URL:https://ambasadorji-nasmeha.si/dogodek/izobrazevanje-za-nove-delovne-pare-tecaj-1/
END:VEVENT
BEGIN:VEVENT
DTSTART;TZID=Europe/Helsinki:20181018T190000
DTEND;TZID=Europe/Helsinki:20181018T210000
DTSTAMP:20260419T224310
CREATED:20180922T164135Z
LAST-MODIFIED:20180922T164135Z
UID:877-1539889200-1539896400@ambasadorji-nasmeha.si
SUMMARY:Redni društveni sestanek
DESCRIPTION:DCA\, Puhova 6\, LJ
URL:https://ambasadorji-nasmeha.si/dogodek/redni-drustveni-sestanek-5/
END:VEVENT
BEGIN:VEVENT
DTSTART;TZID=Europe/Helsinki:20181006T113000
DTEND;TZID=Europe/Helsinki:20181006T133000
DTSTAMP:20260419T224310
CREATED:20180922T163947Z
LAST-MODIFIED:20180922T163947Z
UID:875-1538825400-1538832600@ambasadorji-nasmeha.si
SUMMARY:KORAKI ZA TAČKE
DESCRIPTION:Koseški bajer
URL:https://ambasadorji-nasmeha.si/dogodek/koraki-za-tacke/
END:VEVENT
BEGIN:VEVENT
DTSTART;TZID=Europe/Helsinki:20181004T190000
DTEND;TZID=Europe/Helsinki:20181004T210000
DTSTAMP:20260419T224310
CREATED:20180920T130109Z
LAST-MODIFIED:20180920T152853Z
UID:808-1538679600-1538686800@ambasadorji-nasmeha.si
SUMMARY:Redni društveni sestanek
DESCRIPTION:Redni skupni sestanek društva. Vabljeni.
URL:https://ambasadorji-nasmeha.si/dogodek/redni-drustveni-sestanek-3/
LOCATION:DCA\, Puhova ulica 6\, Ljubljana
CATEGORIES:Upcoming Event
END:VEVENT
BEGIN:VEVENT
DTSTART;TZID=Europe/Helsinki:20181003T143000
DTEND;TZID=Europe/Helsinki:20181003T160000
DTSTAMP:20260419T224310
CREATED:20180923T153751Z
LAST-MODIFIED:20180923T153751Z
UID:891-1538577000-1538582400@ambasadorji-nasmeha.si
SUMMARY:F3ŽO
DESCRIPTION:Delavnica na Festivalu za tretje življenjsko obdobje\, Cankarjev dom
URL:https://ambasadorji-nasmeha.si/dogodek/f3zo/
END:VEVENT
BEGIN:VEVENT
DTSTART;TZID=Europe/Helsinki:20181001T110000
DTEND;TZID=Europe/Helsinki:20181001T130000
DTSTAMP:20260419T224310
CREATED:20180920T130212Z
LAST-MODIFIED:20180920T152706Z
UID:810-1538391600-1538398800@ambasadorji-nasmeha.si
SUMMARY:Tek in hoja za upanje
DESCRIPTION:VDC Zagorje\, Europa donna
URL:https://ambasadorji-nasmeha.si/dogodek/redni-drustveni-sestanek-4/
CATEGORIES:Upcoming Event
END:VEVENT
BEGIN:VEVENT
DTSTART;TZID=Europe/Helsinki:20181001T090000
DTEND;TZID=Europe/Helsinki:20181001T130000
DTSTAMP:20260419T224310
CREATED:20180920T130515Z
LAST-MODIFIED:20180920T152702Z
UID:814-1538384400-1538398800@ambasadorji-nasmeha.si
SUMMARY:Gostovanje na OŠ Klana\, HR
DESCRIPTION:
URL:https://ambasadorji-nasmeha.si/dogodek/gostovanje-na-os-klana-hr/
CATEGORIES:Upcoming Event
END:VEVENT
BEGIN:VEVENT
DTSTART;TZID=Europe/Helsinki:20180920T190000
DTEND;TZID=Europe/Helsinki:20180920T210000
DTSTAMP:20260419T224310
CREATED:20180920T130016Z
LAST-MODIFIED:20180920T152935Z
UID:806-1537470000-1537477200@ambasadorji-nasmeha.si
SUMMARY:Redni društveni sestanek
DESCRIPTION:Redni skupni sestanek društva. Vabljeni.
URL:https://ambasadorji-nasmeha.si/dogodek/redni-drustveni-sestanek-2/
LOCATION:DCA\, Puhova ulica 6\, Ljubljana
CATEGORIES:Upcoming Event
END:VEVENT
BEGIN:VEVENT
DTSTART;TZID=Europe/Helsinki:20180906T190000
DTEND;TZID=Europe/Helsinki:20180906T213000
DTSTAMP:20260419T224310
CREATED:20180920T125629Z
LAST-MODIFIED:20180920T152945Z
UID:802-1536260400-1536269400@ambasadorji-nasmeha.si
SUMMARY:Redni društveni sestanek
DESCRIPTION:Redni skupni sestanek društva. Vabljeni.
URL:https://ambasadorji-nasmeha.si/dogodek/redni-drustveni-sestanek/
LOCATION:DCA\, Puhova ulica 6\, Ljubljana
CATEGORIES:Upcoming Event
END:VEVENT
END:VCALENDAR