BEGIN:VCALENDAR
VERSION:2.0
PRODID:-//Ambasadorji nasmeha - ECPv6.9.1//NONSGML v1.0//EN
CALSCALE:GREGORIAN
METHOD:PUBLISH
X-WR-CALNAME:Ambasadorji nasmeha
X-ORIGINAL-URL:https://ambasadorji-nasmeha.si
X-WR-CALDESC:Events for Ambasadorji nasmeha
REFRESH-INTERVAL;VALUE=DURATION:PT1H
X-Robots-Tag:noindex
X-PUBLISHED-TTL:PT1H
BEGIN:VTIMEZONE
TZID:Europe/Helsinki
BEGIN:DAYLIGHT
TZOFFSETFROM:+0200
TZOFFSETTO:+0300
TZNAME:EEST
DTSTART:20240331T010000
END:DAYLIGHT
BEGIN:STANDARD
TZOFFSETFROM:+0300
TZOFFSETTO:+0200
TZNAME:EET
DTSTART:20241027T010000
END:STANDARD
BEGIN:DAYLIGHT
TZOFFSETFROM:+0200
TZOFFSETTO:+0300
TZNAME:EEST
DTSTART:20250330T010000
END:DAYLIGHT
BEGIN:STANDARD
TZOFFSETFROM:+0300
TZOFFSETTO:+0200
TZNAME:EET
DTSTART:20251026T010000
END:STANDARD
END:VTIMEZONE
BEGIN:VEVENT
DTSTART;TZID=Europe/Helsinki:20250109T180000
DTEND;TZID=Europe/Helsinki:20250109T190000
DTSTAMP:20260420T043755
CREATED:20250102T135921Z
LAST-MODIFIED:20250102T135921Z
UID:2246-1736445600-1736449200@ambasadorji-nasmeha.si
SUMMARY:Zagovor
DESCRIPTION:Regina; Irma\, Borut\, Sonja\, Urška
URL:https://ambasadorji-nasmeha.si/dogodek/zagovor/
END:VEVENT
BEGIN:VEVENT
DTSTART;TZID=Europe/Helsinki:20250106T080000
DTEND;TZID=Europe/Helsinki:20250106T170000
DTSTAMP:20260420T043755
CREATED:20241229T134140Z
LAST-MODIFIED:20250102T140021Z
UID:2176-1736150400-1736182800@ambasadorji-nasmeha.si
SUMMARY:OŠ Braslovče
DESCRIPTION:POŠ Gomilsko\nUrška in Happy\, Lidija in Spirit\, Borut
URL:https://ambasadorji-nasmeha.si/dogodek/os-gomilsko/
END:VEVENT
BEGIN:VEVENT
DTSTART;TZID=Europe/Helsinki:20241226T190000
DTEND;TZID=Europe/Helsinki:20241226T210000
DTSTAMP:20260420T043755
CREATED:20240813T143229Z
LAST-MODIFIED:20240813T143229Z
UID:2099-1735239600-1735246800@ambasadorji-nasmeha.si
SUMMARY:Redni društveni sestanek
DESCRIPTION:
URL:https://ambasadorji-nasmeha.si/dogodek/redni-drustveni-sestanek-71/
LOCATION:Lepodvorska 3
END:VEVENT
BEGIN:VEVENT
DTSTART;TZID=Europe/Helsinki:20241223T100000
DTEND;TZID=Europe/Helsinki:20241223T120000
DTSTAMP:20260420T043755
CREATED:20250102T135838Z
LAST-MODIFIED:20250102T135838Z
UID:2244-1734948000-1734955200@ambasadorji-nasmeha.si
SUMMARY:Zagovori
DESCRIPTION:Johnny\, Mateja; Irma\, Borut\, Urška
URL:https://ambasadorji-nasmeha.si/dogodek/zagovori/
END:VEVENT
BEGIN:VEVENT
DTSTART;TZID=Europe/Helsinki:20241214T080000
DTEND;TZID=Europe/Helsinki:20241214T170000
DTSTAMP:20260420T043755
CREATED:20240630T092311Z
LAST-MODIFIED:20240630T092311Z
UID:2062-1734163200-1734195600@ambasadorji-nasmeha.si
SUMMARY:IZPIT
DESCRIPTION:
URL:https://ambasadorji-nasmeha.si/dogodek/izpit/
END:VEVENT
BEGIN:VEVENT
DTSTART;TZID=Europe/Helsinki:20241212T190000
DTEND;TZID=Europe/Helsinki:20241212T210000
DTSTAMP:20260420T043755
CREATED:20240813T143208Z
LAST-MODIFIED:20240813T143208Z
UID:2097-1734030000-1734037200@ambasadorji-nasmeha.si
SUMMARY:Redni društveni sestanek
DESCRIPTION:
URL:https://ambasadorji-nasmeha.si/dogodek/redni-drustveni-sestanek-70/
LOCATION:Lepodvorska 3
END:VEVENT
BEGIN:VEVENT
DTSTART;TZID=Europe/Helsinki:20241207T080000
DTEND;TZID=Europe/Helsinki:20241207T170000
DTSTAMP:20260420T043755
CREATED:20240630T092108Z
LAST-MODIFIED:20240630T092108Z
UID:2054-1733558400-1733590800@ambasadorji-nasmeha.si
SUMMARY:4. dan tečaja
DESCRIPTION:
URL:https://ambasadorji-nasmeha.si/dogodek/4-dan-tecaja/
END:VEVENT
BEGIN:VEVENT
DTSTART;TZID=Europe/Helsinki:20241206T180000
DTEND;TZID=Europe/Helsinki:20241206T230000
DTSTAMP:20260420T043755
CREATED:20241203T183629Z
LAST-MODIFIED:20241203T183629Z
UID:2153-1733508000-1733526000@ambasadorji-nasmeha.si
SUMMARY:BOŽIČKOVANJE 2024
DESCRIPTION:
URL:https://ambasadorji-nasmeha.si/dogodek/bozickovanje-2024/
LOCATION:Lepodvorska 3
END:VEVENT
BEGIN:VEVENT
DTSTART;TZID=Europe/Helsinki:20241205T100000
DTEND;TZID=Europe/Helsinki:20241205T110000
DTSTAMP:20260420T043755
CREATED:20241203T185022Z
LAST-MODIFIED:20241203T185022Z
UID:2172-1733392800-1733396400@ambasadorji-nasmeha.si
SUMMARY:Dom Taber OPN
DESCRIPTION:Stefan in Diva; Irena\, Borut\, Urška
URL:https://ambasadorji-nasmeha.si/dogodek/dom-taber-opn/
END:VEVENT
BEGIN:VEVENT
DTSTART;TZID=Europe/Helsinki:20241130T080000
DTEND;TZID=Europe/Helsinki:20241130T170000
DTSTAMP:20260420T043755
CREATED:20240630T092038Z
LAST-MODIFIED:20240630T092038Z
UID:2052-1732953600-1732986000@ambasadorji-nasmeha.si
SUMMARY:3. dan tečaja
DESCRIPTION:
URL:https://ambasadorji-nasmeha.si/dogodek/3-dan-tecaja/
END:VEVENT
BEGIN:VEVENT
DTSTART;TZID=Europe/Helsinki:20241130T080000
DTEND;TZID=Europe/Helsinki:20241130T170000
DTSTAMP:20260420T043755
CREATED:20240315T184741Z
LAST-MODIFIED:20240315T184741Z
UID:1858-1732953600-1732986000@ambasadorji-nasmeha.si
SUMMARY:19 let AN
DESCRIPTION:
URL:https://ambasadorji-nasmeha.si/dogodek/19-let-an/
END:VEVENT
BEGIN:VEVENT
DTSTART;TZID=Europe/Helsinki:20241129T093000
DTEND;TZID=Europe/Helsinki:20241129T103000
DTSTAMP:20260420T043755
CREATED:20241203T184834Z
LAST-MODIFIED:20241203T184834Z
UID:2170-1732872600-1732876200@ambasadorji-nasmeha.si
SUMMARY:Vrtec Pod Gradom
DESCRIPTION:Urška in Happy
URL:https://ambasadorji-nasmeha.si/dogodek/vrtec-pod-gradom/
END:VEVENT
BEGIN:VEVENT
DTSTART;TZID=Europe/Helsinki:20241128T190000
DTEND;TZID=Europe/Helsinki:20241128T210000
DTSTAMP:20260420T043755
CREATED:20240813T143134Z
LAST-MODIFIED:20240813T143134Z
UID:2095-1732820400-1732827600@ambasadorji-nasmeha.si
SUMMARY:Redni društveni sestanek
DESCRIPTION:
URL:https://ambasadorji-nasmeha.si/dogodek/redni-drustveni-sestanek-69/
LOCATION:Lepodvorska 3
END:VEVENT
BEGIN:VEVENT
DTSTART;TZID=Europe/Helsinki:20241124T090000
DTEND;TZID=Europe/Helsinki:20241124T160000
DTSTAMP:20260420T043755
CREATED:20240630T092141Z
LAST-MODIFIED:20241101T191412Z
UID:2056-1732438800-1732464000@ambasadorji-nasmeha.si
SUMMARY:SEMINAR
DESCRIPTION:
URL:https://ambasadorji-nasmeha.si/dogodek/seminar/
END:VEVENT
BEGIN:VEVENT
DTSTART;TZID=Europe/Helsinki:20241123T080000
DTEND;TZID=Europe/Helsinki:20241123T170000
DTSTAMP:20260420T043755
CREATED:20240630T092211Z
LAST-MODIFIED:20240630T092211Z
UID:2060-1732348800-1732381200@ambasadorji-nasmeha.si
SUMMARY:SEMINAR
DESCRIPTION:
URL:https://ambasadorji-nasmeha.si/dogodek/seminar-3/
END:VEVENT
BEGIN:VEVENT
DTSTART;TZID=Europe/Helsinki:20241122T170000
DTEND;TZID=Europe/Helsinki:20241122T200000
DTSTAMP:20260420T043755
CREATED:20240630T092159Z
LAST-MODIFIED:20241101T191333Z
UID:2058-1732294800-1732305600@ambasadorji-nasmeha.si
SUMMARY:SEMINAR
DESCRIPTION:
URL:https://ambasadorji-nasmeha.si/dogodek/seminar-2/
END:VEVENT
BEGIN:VEVENT
DTSTART;TZID=Europe/Helsinki:20241121T100000
DTEND;TZID=Europe/Helsinki:20241121T110000
DTSTAMP:20260420T043755
CREATED:20241203T184731Z
LAST-MODIFIED:20241203T184731Z
UID:2168-1732183200-1732186800@ambasadorji-nasmeha.si
SUMMARY:Vrtec Vnanje Gorice OPN
DESCRIPTION:Stefan in Diva; Borut\, Urška
URL:https://ambasadorji-nasmeha.si/dogodek/vrtec-vnanje-gorice-opn/
END:VEVENT
BEGIN:VEVENT
DTSTART;TZID=Europe/Helsinki:20241120T110000
DTEND;TZID=Europe/Helsinki:20241120T123000
DTSTAMP:20260420T043755
CREATED:20241203T184641Z
LAST-MODIFIED:20241203T184641Z
UID:2166-1732100400-1732105800@ambasadorji-nasmeha.si
SUMMARY:Barka OPN
DESCRIPTION:Darinka in Liza; Irma\, Urška
URL:https://ambasadorji-nasmeha.si/dogodek/barka-opn/
END:VEVENT
BEGIN:VEVENT
DTSTART;TZID=Europe/Helsinki:20241116T080000
DTEND;TZID=Europe/Helsinki:20241116T170000
DTSTAMP:20260420T043755
CREATED:20240630T092015Z
LAST-MODIFIED:20240630T092015Z
UID:2050-1731744000-1731776400@ambasadorji-nasmeha.si
SUMMARY:2. dan tečaja
DESCRIPTION:
URL:https://ambasadorji-nasmeha.si/dogodek/2-dan-tecaja/
END:VEVENT
BEGIN:VEVENT
DTSTART;TZID=Europe/Helsinki:20241114T190000
DTEND;TZID=Europe/Helsinki:20241114T210000
DTSTAMP:20260420T043755
CREATED:20240813T143101Z
LAST-MODIFIED:20240813T143101Z
UID:2093-1731610800-1731618000@ambasadorji-nasmeha.si
SUMMARY:Redni društveni sestanek
DESCRIPTION:
URL:https://ambasadorji-nasmeha.si/dogodek/redni-drustveni-sestanek-68/
LOCATION:Lepodvorska 3
END:VEVENT
BEGIN:VEVENT
DTSTART;TZID=Europe/Helsinki:20241114T100000
DTEND;TZID=Europe/Helsinki:20241114T110000
DTSTAMP:20260420T043755
CREATED:20241203T184550Z
LAST-MODIFIED:20241203T184550Z
UID:2164-1731578400-1731582000@ambasadorji-nasmeha.si
SUMMARY:DSO Preddvor OPN
DESCRIPTION:Tina in Neli; Irena\, Borut\, Urška
URL:https://ambasadorji-nasmeha.si/dogodek/dso-preddvor-opn-5/
END:VEVENT
BEGIN:VEVENT
DTSTART;TZID=Europe/Helsinki:20241113T100000
DTEND;TZID=Europe/Helsinki:20241113T110000
DTSTAMP:20260420T043755
CREATED:20241203T184346Z
LAST-MODIFIED:20241203T184409Z
UID:2162-1731492000-1731495600@ambasadorji-nasmeha.si
SUMMARY:Vrtec Mehurčki OPN
DESCRIPTION:TJaša in Wendy; Irena\, Borut\, Urška
URL:https://ambasadorji-nasmeha.si/dogodek/vrtec-mehurcki-opn-2/
END:VEVENT
BEGIN:VEVENT
DTSTART;TZID=Europe/Helsinki:20241111T093000
DTEND;TZID=Europe/Helsinki:20241111T170000
DTSTAMP:20260420T043755
CREATED:20241015T150247Z
LAST-MODIFIED:20241015T150247Z
UID:2144-1731317400-1731344400@ambasadorji-nasmeha.si
SUMMARY:OŠ Zagorje
DESCRIPTION:Urška in Happy
URL:https://ambasadorji-nasmeha.si/dogodek/os-zagorje/
END:VEVENT
BEGIN:VEVENT
DTSTART;TZID=Europe/Helsinki:20241109T080000
DTEND;TZID=Europe/Helsinki:20241109T170000
DTSTAMP:20260420T043755
CREATED:20240630T091950Z
LAST-MODIFIED:20240630T091950Z
UID:2048-1731139200-1731171600@ambasadorji-nasmeha.si
SUMMARY:1. dan tečaja
DESCRIPTION:
URL:https://ambasadorji-nasmeha.si/dogodek/1-dan-tecaja/
END:VEVENT
BEGIN:VEVENT
DTSTART;TZID=Europe/Helsinki:20241106T143000
DTEND;TZID=Europe/Helsinki:20241106T170000
DTSTAMP:20260420T043755
CREATED:20240415T101720Z
LAST-MODIFIED:20241015T150309Z
UID:1905-1730903400-1730912400@ambasadorji-nasmeha.si
SUMMARY:5. Nacionalna konferenca Kreativna učna okolja
DESCRIPTION:Kongresni center Rimske toplice\nZala in Jon\, Ksenija in Tili\, Urška in Mila\, Borut
URL:https://ambasadorji-nasmeha.si/dogodek/5-nacionalna-konferenca-kreativna-ucna-okolja/
END:VEVENT
BEGIN:VEVENT
DTSTART;TZID=Europe/Helsinki:20241106T100000
DTEND;TZID=Europe/Helsinki:20241106T110000
DTSTAMP:20260420T043755
CREATED:20241015T150207Z
LAST-MODIFIED:20241101T191512Z
UID:2141-1730887200-1730890800@ambasadorji-nasmeha.si
SUMMARY:DEOS Idila - OPN
DESCRIPTION:Tjaša in Wendy; Urška\, Borut
URL:https://ambasadorji-nasmeha.si/dogodek/deos-idila-opn/
END:VEVENT
BEGIN:VEVENT
DTSTART;TZID=Europe/Helsinki:20241031T190000
DTEND;TZID=Europe/Helsinki:20241031T210000
DTSTAMP:20260420T043755
CREATED:20240813T143034Z
LAST-MODIFIED:20240813T143034Z
UID:2091-1730401200-1730408400@ambasadorji-nasmeha.si
SUMMARY:Redni društveni sestanek
DESCRIPTION:
URL:https://ambasadorji-nasmeha.si/dogodek/redni-drustveni-sestanek-67/
LOCATION:Lepodvorska 3
END:VEVENT
BEGIN:VEVENT
DTSTART;TZID=Europe/Helsinki:20241029T093000
DTEND;TZID=Europe/Helsinki:20241029T113000
DTSTAMP:20260420T043755
CREATED:20241203T184225Z
LAST-MODIFIED:20241203T184225Z
UID:2160-1730194200-1730201400@ambasadorji-nasmeha.si
SUMMARY:DEOS Notranje Gorice OPN
DESCRIPTION:Tina in Neli; Sonja\, Borut\, Urška
URL:https://ambasadorji-nasmeha.si/dogodek/deos-notranje-gorice-opn-6/
END:VEVENT
BEGIN:VEVENT
DTSTART;TZID=Europe/Helsinki:20241025T100000
DTEND;TZID=Europe/Helsinki:20241025T170000
DTSTAMP:20260420T043755
CREATED:20240924T131214Z
LAST-MODIFIED:20240924T131214Z
UID:2131-1729850400-1729875600@ambasadorji-nasmeha.si
SUMMARY:OŠ Toneta Čufarja MB
DESCRIPTION:Tjaša in Wendy OPN; Lidija in Spirit; Borut\, Urška
URL:https://ambasadorji-nasmeha.si/dogodek/os-toneta-cufarja-mb/
END:VEVENT
BEGIN:VEVENT
DTSTART;TZID=Europe/Helsinki:20241024T080000
DTEND;TZID=Europe/Helsinki:20241024T170000
DTSTAMP:20260420T043755
CREATED:20241001T104519Z
LAST-MODIFIED:20241001T104519Z
UID:2134-1729756800-1729789200@ambasadorji-nasmeha.si
SUMMARY:CUDV Draga\, enota Mavrica
DESCRIPTION:Obišče jih Happy
URL:https://ambasadorji-nasmeha.si/dogodek/cudv-draga-enota-mavrica/
END:VEVENT
END:VCALENDAR